BEGIN:VCALENDAR
METHOD:PUBLISH
VERSION:2.0
PRODID:-//Eventilla iCal Syndication//NONSGML Liana//EN
BEGIN:VEVENT
UID:0eewo@eventilla.com
DTSTAMP:20260820T060000Z
DTSTART:20260820T060000Z
DTEND:20260820T063000Z
SUMMARY:AamuBoost – tekoälyn parhaat vinkit työpäivään!
DESCRIPTION:Eduhousen koulutuksiin osallistujilta laskutetaan ensimmäisen ilmoittautumisen jälkeen yksi 50 €:n koulutuslisenssi Loimun toimesta\, jolla saa osallistua niin moneen Eduhousen koulutukseen kuin haluaa vuoden 2026 aikana. \nKuvaus\nAamuBoost käynnistää työpäivän tehokkaasti tekoälyn avulla. Opit viisi käytännön vinkkiä\, joiden avulla hyödynnät ChatGPT:tä\, Copilotia ja muita tekoälytyökaluja sujuvammin työssäsi.\nTavoite\nKoulutuksen tavoitteena on antaa osallistujille viisi konkreettista vinkkiä tekoälyn hyödyntämiseen työelämässä. Saat uusia ideoita siihen\, miten tekoäly voi nopeuttaa työtä\, tukea ajattelua ja helpottaa arjen tehtäviä.\nKenelle\nKoulutus sopii kaikille\, jotka ovat kiinnostuneita hyödyntämään tekoälyä työssään. Osallistujalta ei vaadita syvällistä AI-osaamista\, mutta perustason digityökalujen käyttö helpottaa koulutuksen seuraamista.\nOhjelmaversio\nKoulutuksissa käytetään ajankohtaisia tekoälytyökaluja\, kuten ChatGPT:tä\, Microsoft Copilotia sekä muita tekoälypohjaisia sovelluksia. Esimerkit soveltuvat pääosin myös muihin vastaaviin työkaluihin.\nLue ilmoittautumisen ohjeet ennen kuin ilmoittaudut koulutukseen.\n \nIlmoittaudu\n 
LOCATION:webinaari
URL:http://tapahtumat.loimu.fi/event/0eewo
END:VEVENT
END:VCALENDAR
