BEGIN:VCALENDAR
METHOD:PUBLISH
VERSION:2.0
PRODID:-//Eventilla iCal Syndication//NONSGML Liana//EN
BEGIN:VEVENT
UID:1Edye@eventilla.com
DTSTAMP:20260513T100000Z
DTSTART:20260513T100000Z
DTEND:20260513T120000Z
SUMMARY:PowerPoint 2 - images\, videos and animation
DESCRIPTION:Participants in Eduhouse training sessions will be invoiced a single €50 training license fee by Loimu after their first registration. This license allows unlimited participation in Eduhouse training sessions throughout 2026. Members exempt from the license fee are those classified in membership fee discount categories 1–3 due to low income at the time of invoicing\, as well as recent graduates.\nDescription\nDeepen your PowerPoint skills by learning how to use images\, videos\, and animations. Create more visual presentations and make your workflow easier with efficient working methods.\nGoal\nThe goal is to learn how to add and edit images and videos. You will also learn to use slide transitions and animate individual elements to make your presentation come alive.\nTarget audience\nThis course is intended for users who already know the basics of PowerPoint and want to enhance their ability to use visual elements in presentations. If you wish to review the basics first\, you can do so in the training PowerPoint 1 – mastering the Basics.\nSoftware version\nThe training is carried out using the latest Microsoft 365 version of PowerPoint. For the most part\, the skills learned are applicable to other commonly used versions of PowerPoint.\n \nRead the registration instructions before signing up for the training. \n \nRegister
LOCATION:webinar
URL:http://tapahtumat.loimu.fi/event/1Edye
END:VEVENT
END:VCALENDAR
