BEGIN:VCALENDAR
METHOD:PUBLISH
VERSION:2.0
PRODID:-//Eventilla iCal Syndication//NONSGML Liana//EN
BEGIN:VEVENT
UID:2NN2g@eventilla.com
DTSTAMP:20261119T110000Z
DTSTART:20261119T110000Z
DTEND:20261119T130000Z
SUMMARY:Microsoft 365 Copilot 1 – basics
DESCRIPTION:Participants in Eduhouse training sessions will be invoiced a single €50 training license fee by Loimu after their first registration. This license allows unlimited participation in Eduhouse training sessions throughout 2026. Members exempt from the license fee are those classified in membership fee discount categories 1–3 due to low income at the time of invoicing\, as well as recent graduates.\nDescription\nDiscover how Microsoft Copilot’s AI-powered features can make your daily work faster\, easier\, and more efficient. In this training\, you’ll learn how to find and analyze information\, create content\, and communicate effectively with the help of Copilot.\nGoal\nThe goal of this training is to help participants understand how to use Microsoft Copilot Chat within the Microsoft 365 environment. You will learn the essential features of the service and how to apply them in everyday tasks. The training also introduces the basics of writing clear and effective prompts to guide Copilot and get better results.\nTarget audience\nThis training is designed for basic users\, business leaders\, IT professionals\, and anyone interested in using AI-powered solutions with a chat-interface in a work environment. No prior experience is required\, and the content is suitable for all Microsoft Copilot work versions.\nSoftware version\nThe training is conducted using the latest browser-based version of Microsoft Copilot Chat. No installation is required\, but participants must have an active Microsoft 365 work license to use Copilot Chat.\nRead the registration instructions before signing up for the training. \n \nRegister
LOCATION:webinar
URL:http://tapahtumat.loimu.fi/event/2NN2g
END:VEVENT
END:VCALENDAR
