BEGIN:VCALENDAR
METHOD:PUBLISH
VERSION:2.0
PRODID:-//Eventilla iCal Syndication//NONSGML Liana//EN
BEGIN:VEVENT
UID:2NwvV@eventilla.com
DTSTAMP:20260916T100000Z
DTSTART:20260916T100000Z
DTEND:20260916T130000Z
SUMMARY:Uusi Outlook 1 – sähköpostin tehokas käsittely
DESCRIPTION:Eduhousen koulutuksiin osallistujilta laskutetaan ensimmäisen ilmoittautumisen jälkeen yksi 50 €:n koulutuslisenssi Loimun toimesta\, jolla saa osallistua niin moneen Eduhousen koulutukseen kuin haluaa vuoden 2026 aikana. \nKuvaus\nOnko sähköpostilaatikko jatkuvasti täynnä? Tässä koulutuksessa opit hyödyntämään Outlookin työkaluja viestien kansiointiin\, luokitteluun ja nopeaan löytämiseen. Lähdemme liikkeelle perusteista ja etenemme edistyneempiin toimintoihin. Ilmoittaudu mukaan ja sujuvoita sähköpostien käsittelyäsi!\nTavoite\nKoulutuksen aikana opit sähköpostin käsittelyn uudella Outlookilla perusteista alkaen. Koulutuksessa tutustumme käyttöliittymään\, sähköpostin käsittelyn perusteisiin\, sekä edistyneisiin toimintoihin\, kuten hakukansioihin ja sääntöihin.\nKenelle\nSinulle\, joka haluat oppia ja tehostaa sähköpostin käsittelyä päivittäisessä työssäsi. Koulutus soveltuu sekä aiemmasta Outlookin versiosta siirtyville\, että Outlookiin ensi kertaa tutustuville. Et tarvitse aiempaa Outlook-osaamista\, perustason tietokoneen käyttötaidot riittävät.\nOhjelmaversio\nKoulutus sopii uusimmalle Outlook-sovellukselle\, sekä Outlookin selainversiolle. Vanhoista Outlook-versioista löytyy samoja toimintoja\, mutta vanhoja Outlook-versioita ei käsitellä.\nLue ilmoittautumisen ohjeet ennen kuin ilmoittaudut koulutukseen.\nIlmoittaudu\n 
LOCATION:webinaari
URL:http://tapahtumat.loimu.fi/event/2NwvV
END:VEVENT
END:VCALENDAR
