BEGIN:VCALENDAR
METHOD:PUBLISH
VERSION:2.0
PRODID:-//Eventilla iCal Syndication//NONSGML Liana//EN
BEGIN:VEVENT
UID:2k9kB@eventilla.com
DTSTAMP:20241107T160000Z
DTSTART:20241107T160000Z
DTEND:20241107T170000Z
SUMMARY:PhD outside the university 3/3
DESCRIPTION:Are you a PhD graduate considering your career options? Or are you contemplating postgraduate studies and wondering about the career opportunities a PhD might bring? \nMany PhD graduates work outside academia. The goal of the "PhD outside the university" career evenings is to broaden the understanding of the employment opportunities available to PhD graduates and to highlight the advantages and professional skills that a PhD provides in the job market. \nCome and learn about the diverse career paths of PhDs! These events are dialogic\, and you will also have the opportunity to ask questions to the speakers. \nThe events are organized in collaboration with The Union of Professionals in Natural\, Environmental and Forestry Sciences Loimu\, Social Science Professionals YKA and Tohtoriverkosto.   \nTime: The third event organized by Loimu is held on Thu Nov 7th at 6-7 pm. Members of all three organizing organizations can participate the event with unlimited seating. Event language will be English.\nHow does research work look like in the R&D department of a company? What does it take to make the career move from academia to company world? \nThe guests of the evening will be\n\nPhD Gotmathy Chakkaradhari who is R&D Manager working for international chemical manufacturing company Umicore\, which is focusing on sustainable solutions and\nPhD Salla Laine who is Head of R&D IVD Chemistry at Uniogen\, a diagnostic manufacturing company in life science.\n\nPrice: Free for Loimu members\nRegistration: Sign in latest 4th of November.
LOCATION:webinar
URL:http://tapahtumat.loimu.fi/event/2k9kB
END:VEVENT
END:VCALENDAR
