BEGIN:VCALENDAR
METHOD:PUBLISH
VERSION:2.0
PRODID:-//Eventilla iCal Syndication//NONSGML Liana//EN
BEGIN:VEVENT
UID:2w51V@eventilla.com
DTSTAMP:20260522T060000Z
DTSTART:20260522T060000Z
DTEND:20260522T070000Z
SUMMARY:Miten luoda fiksuja ja aivoystävällisiä työtapoja asiantuntija- ja esihenkilötyössä?
DESCRIPTION:Voisiko omaa ja tiimin työtä johtaa niin\, että ajattelu kulkee kirkkaammin\, mutta samalla työpäivä ei vie kaikki voimia?\nTässä webinaarissa psykologian tohtori ja aivoasiantuntija Mona Moisala tarkastelee modernin asiantuntija- ja esihenkilötyön paineita ja kuormitustekijöitä sekä sitä\, miten niitä voidaan huomioida niin omassa kuin tiimin johtamisessa. Tavoitteena on auttaa asiantuntijoita ja esihenkilöitä rakentamaan fiksuja\, kestäviä ja aivoterveyttä tukevia työtapoja\, jotka samalla lisäävät työnteon tehokkuutta.\nTässä webinaarissa:\n\npohdimme\, mitä on laadukas ja tuottava ajatustyö aivojen näkökulmasta\nlisäämme ymmärrystä siitä\, miten aivot ja ihmiset toimivat kuormituksen ja muutoksen keskellä\nkäsittelemme aivoergonomiaa ja palautumisen keinoja informaatiotulvassa\nkäymme läpi konkreettisia tapoja hyödyntää aivojen koko potentiaalia kestävällä tavalla\n\nMoisala yhdistää puheenvuorossaan tuoreimman tutkimustiedon ja satojen työyhteisöjen kokemukset\, tarjoten käytännöllisiä näkökulmia ja työkaluja arjen työskentelyyn ja muutostilanteiden johtamiseen. Puheenvuoro huomioi sekä yksilön että työyhteisön näkökulman.Webinaari on toukokuussa 2025 toteutetun Aivohyvinvointi asiantuntijatyössä -webinaarin  itsenäinen jatko-osa. \nLoimu toteuttaa webinaarin yhteistyössä ammattiliittojen Akavan Erityisalat ja YKA kanssa.\nWebinaarista tulee tallenne 3 kk ajaksi Loimun tallennekirjastoon.\nKouluttaja\nMona Moisala on aivotutkimuksesta väitellyt psykologian tohtori\, keynote-puhuja ja tietokirjailija. Mona on erikoistunut valmentamaan ja kouluttamaan ajatustyöläisiä\, ja hän on aivojen hyvinvoinnin huippuasiantuntija. \nKoulutus on osa Loimun hyvinvoinnin teemavuotta 2026\, jonka tavoitteena on tukea loimulaisten hyvinvointia työelämässä\, työnhaussa ja opinnoissa.  Lue lisää Hyvinvoinnin vuosi 2026 -sivulta.
LOCATION:webinaari
URL:http://tapahtumat.loimu.fi/event/2w51V
END:VEVENT
END:VCALENDAR
