BEGIN:VCALENDAR
METHOD:PUBLISH
VERSION:2.0
PRODID:-//Eventilla iCal Syndication//NONSGML Liana//EN
BEGIN:VEVENT
UID:2weBg@eventilla.com
DTSTAMP:20260423T093000Z
DTSTART:20260423T093000Z
DTEND:20260508T090000Z
SUMMARY:ISO 14001 ja ympäristöjärjestelmä
DESCRIPTION:Loimun jäseniä työskentelee ympäristöasioiden hallintaa vaativissa tehtävissä esimerkiksi teollisuudessa\, julkisessa hallinnossa\, palvelutuotannossa ja erilaisten vastuullisuustehtävien puolella. \nYmpäristöajattelu on yhä tärkeämpi osa minkä tahansa organisaation strategista toimintaa. Ympäristöasioiden hallintaan ISO 14001-standardia voidaan soveltaa laajasti organisaatiossa yksityisellä ja julkisella sektorilla\, ja se tarjoaa organisaatiolle ympäristöasioiden hallinnan työkalupakin ympäristöjohtamisen tueksi.\nMikä on ISO 14001?\nISO 14001 on kansainvälisesti tunnustettu standardi ympäristöjohtamisjärjestelmille (EMS). Se tarjoaa viitekehyksen\, jonka avulla organisaatiot voivat suunnitella ja toteuttaa ympäristöjohtamisjärjestelmän sekä parantaa jatkuvasti ympäristönsuoritustaan. Noudattamalla tätä standardia organisaatiot voivat varmistaa\, että ne ryhtyvät ennakoiviin toimiin ympäristöjalanjälkensä minimoimiseksi\, täyttävät asiaankuuluvat lakisääteiset vaatimukset ja saavuttavat ympäristötavoitteensa.\nViitekehys kattaa monia osa-alueita\, aina resurssien käytöstä ja jätehuollosta ympäristövaikutusten seurantaan ja sidosryhmien sitouttamiseen ympäristövastuuseen.\nMiksi ISO 14001 on tärkeä?\nOttaessaan standardin käyttöön organisaatiot osoittavat sitoutuvansa paitsi lakisääteisten vaatimusten noudattamiseen myös jatkuvaan ympäristön parantamiseen. Tämä ennakoiva lähestymistapa voi tuoda konkreettisia hyötyjä\, kuten jätteen vähentämistä\, energiansäästöä ja kustannussäästöjä.\nLisäksi se vahvistaa sidosryhmien luottamusta\, joka voi olla usein ratkaiseva askel globaalissa kaupankäynnissä ja toimitusketjuissa toimimisessa. Yksinkertaisesti sanottuna ISO 14001 on osoitus organisaation sitoutumisesta kestävään tulevaisuuteen\, yhdistäen ympäristövastuun ja strategisen liiketoiminnan kasvun.\nMiksi osallistua koulutukseen?\nTarjoamme jäsenillemme ISO 14001 -peruskurssin\, joka auttaa heitä viemään organisaatioitaan kohti kestävää tulevaisuutta. ISO 14001:n perusteiden ja liiketoiminnan realiteettien ymmärtäminen voi myös tukea urasiirtymää yliopistosta yritysmaailmaan.\nKoulutuksessa sovelletaan standardin uunituoreen maaliskuussa ilmestyvän 2026 version periaatteita ja vaatimuksia. Olisi hyvä\, jos osallistujalla on standardi käytettävissään (ei pakollinen). Huomioithan\, että standardit eivät kuulu koulutuksen hintaan. Standardin voi hankkia etukäteen SFS Suomen Standardit ry:n verkkokaupasta: https://store.sfs.fi/fi/\n \nAikataulu\nKoulutus toteutetaan kahdessa osassa\, joiden välissä on noin 2 viikkoa. Osioiden välissä voi olla välitehtävä. Katso tarkemmin Ohjelma-välilehdeltä. \nHinta\nKoulutuksen hinta on 160 €. Työnhakijoille\, vanhempainvapaalla oleville\, apurahatutkijoille tai opiskelijoille hinta on 80 €.\nKenelle koulutus sopii\nKoulutus sopii kaikille vastuullisuuden ja kestävyyden eli sustainability teemoista kiinnostuneille Loimun jäsenille. \nToteutus\nKoulutus pidetään Excellence Finlandin Teamsissä.\nKouluttaja\nPetri Lehtipuu\, Excellence Finland Oy\nLoimun koulutusten ja tapahtumien tietosuojaseloste: https://www.loimu.fi/tapahtumien-ja-koulutusten-tietosuojaseloste/ 
LOCATION:webinaari
URL:http://tapahtumat.loimu.fi/event/2weBg
END:VEVENT
END:VCALENDAR
