BEGIN:VCALENDAR
METHOD:PUBLISH
VERSION:2.0
PRODID:-//Eventilla iCal Syndication//NONSGML Liana//EN
BEGIN:VEVENT
UID:7MboG@eventilla.com
DTSTAMP:20260520T150000Z
DTSTART:20260520T150000Z
DTEND:20260520T160000Z
SUMMARY:Stressi hallintaan – 3 askelta arjen kaaoksesta takaisin fokukseen
DESCRIPTION:Pää pyörällä. Lista kasvaa. Aika loppuu. Kun kaikki on kiireellistä\, mikään ei etene. Kolme konkreettista askelta\, joilla rauhoitat mieltäsi ja palaat fokukseen kiireen keskellä.\nWebinaarin puhuja: Sunny Viljamaa\nSunny Viljamaa on psykologi\, uravalmentaja ja tekoälyvalmennuksen edelläkävijä\, joka on kehittänyt digitaalisia valmennusratkaisuja yli 25 vuoden ajan.\nKoulutus on osa Loimun hyvinvoinnin teemavuotta 2026\, jonka tavoitteena on tukea loimulaisten hyvinvointia työelämässä\, työnhaussa ja opinnoissa.  Lue lisää Hyvinvoinnin vuosi 2026 -sivulta.\n \nIlmoittaudu
LOCATION:webinaari
URL:http://tapahtumat.loimu.fi/event/7MboG
END:VEVENT
END:VCALENDAR
