BEGIN:VCALENDAR
METHOD:PUBLISH
VERSION:2.0
PRODID:-//Eventilla iCal Syndication//NONSGML Liana//EN
BEGIN:VEVENT
UID:7ebyr@eventilla.com
DTSTAMP:20241202T081500Z
DTSTART:20241202T081500Z
DTEND:20241202T091500Z
SUMMARY:Microsoft 365 Copilot – Outlook sähköpostit tekoälyllä
DESCRIPTION:Eduhousen koulutuksiin osallistujilta laskutetaan ensimmäisen ilmoittautumisen jälkeen yksi 50 €:n koulutuslisenssi\, jolla saa osallistua niin moneen koulutukseen kuin haluaa.\nOpettele käyttämään Copilot-tekoälyä Outlook-sähköpostien hallinnassa! Sähköpostin kirjoittaminen ja lukeminen helpottuu\, kun tekoäly avustaa ja osaa löytää tärkeät yksityiskohdat ja kirjoittaa sähköpostit puolestasi.\nTavoite\nKurssin tavoitteena on opettaa osallistujille\, kuinka hyödyntää tekoälyä sähköpostien lukemisessa ja ymmärtämisessä\, miten kirjoittaa ja vastata sähköposteihin tekoälyavusteisesti. Koulutuksessa opit myös\, miten parantaa sähköpostiviestien laatua ja muotoilua tekoälyn ehdotusten avulla.\nKenelle\nKurssi on tarkoitettu kaikille\, jotka käyttävät sähköpostia työssään ja haluavat parantaa sähköpostiviestintäänsä ja tuottavuuttaan tekoälyn avulla. Osallistujilla tulisi olla perustiedot Outlookin käytöstä.\nOhjelmaversio\nKoulutuksessa käytetään Outlookin uusinta 365-versiota selaimen kautta tai tietokoneen sovelluksena. Koulutus ei sovellu aiemmille Outlookin versioille. Huomaa\, että tekoälyn käyttö Office-sovelluksissa edellyttää Microsoft 365 Copilot-tilauksen.\n \nLue ilmoittautumisen ohjeet ennen kuin ilmoittaudut koulutukseen.\n \nIlmoittaudu\n 
LOCATION:webinaari
URL:http://tapahtumat.loimu.fi/event/7ebyr
END:VEVENT
END:VCALENDAR
