BEGIN:VCALENDAR
METHOD:PUBLISH
VERSION:2.0
PRODID:-//Eventilla iCal Syndication//NONSGML Liana//EN
BEGIN:VEVENT
UID:9k1B0@eventilla.com
DTSTAMP:20240425T050000Z
DTSTART:20240425T050000Z
DTEND:20240425T063000Z
SUMMARY:Wappuetkot yrittäjille
DESCRIPTION:Ota varaslähtö wappuun AKYn perinteisellä vappupuurolla Ravintola Lasipalatsissa (2. kerros) torstaina 25.4.2024 klo 8–9.30.\nVoit tulla oman aikataulusi mukaan piipahtamaan tai viihtymään pidempään. Aamupala on tarjolla koko tilaisuuden ajan. Lämpimästi tervetuloa!\nHelsingin Ekonomien riveistä spinnanneen Akateemisen mieskuoron Psaldon kvartetti tuo vappuisen laulutervehdyksensä AKYn aamupuurotilaisuuteen.\nTapahtuma on tarkoitettu AKYn jäsenliittojen yrittäjille ja yrittäjyydestä kiinnostuneille\, ja se on maksuton.\n \n \n 
LOCATION:Ravintola Lasipalatsi\, Mannerheimintie 22-24, 2. krs\, 00100\,
 Helsinki
URL:http://tapahtumat.loimu.fi/event/9k1B0
END:VEVENT
END:VCALENDAR
