BEGIN:VCALENDAR
METHOD:PUBLISH
VERSION:2.0
PRODID:-//Eventilla iCal Syndication//NONSGML Liana//EN
BEGIN:VEVENT
UID:9qrrR@eventilla.com
DTSTAMP:20250605T060000Z
DTSTART:20250605T060000Z
DTEND:20250605T130000Z
SUMMARY:Power BI 1 – perusteet
DESCRIPTION:Eduhousen koulutuksiin osallistujilta laskutetaan ensimmäisen ilmoittautumisen jälkeen yksi 50 €:n koulutuslisenssi Loimun toimesta\, jolla saa osallistua niin moneen Eduhousen koulutukseen kuin haluaa vuoden 2025 aikana. \nKuvaus\nHaluatko ymmärtää Power BI:n perusteet ja oppia yhdistämään tietoa useasta erityyppisestä tietolähteestä yhdeksi valmiiksi dashboard-raportiksi? Astu nyt tielle kohti raportoinnin mestaruusluokkaa!\nTässä koulutuksessa opit hyödyntämään Microsoftin Office 365 -palveluun liittyvää Power BI -pilvipalvelua sekä ilmaista Power BI Desktop -ohjelmaa. Opit luomaan ns. tietomallin sekä tekemään tiedoilla laskentaa\, luomaan raportteja ja visualisointeja.\nTavoite\nKoulutuksen jälkeen osaat luoda tietomallin ja sen pohjalta visualisointeja. Opit myös julkaisemaan sekä jakamaan raportteja ja niiden visualisointeja Power BI -pilvipalvelussa. Lisäksi tutustut Power BI:n lisensointimalliin.\nKenelle\nKoulutus on tarkoitettu henkilöille\, jotka haluavat oppia tekemään perusraportteja Power BI -ohjelmistolla.\nOhjelmaversio\nKoulutuksessa käytämme uusinta Power BI Desktop -versiota. Power BI sovelluksen saat ladattua mm. seuraavista paikoista: Microsoft Storesta\, Software centeristä\, yrityksen omasta IT-portaalista tai tästä linkistä (64 bit); Download Power BI Desktop from Official Microsoft Download Center\nJoissain organisaatioissa voi myös vaatia IT-tuelta asennuksen.\nKoulutus ei sovellu Mac-koneiden käyttäjille. \nHuomioitavaa\nLue ilmoittautumisen ohjeet ennen kuin ilmoittaudut koulutukseen. Huomioithan\, että kyseessä on paikkamääriltään rajattu koulutus. Koko päivän pituiseen tai useamman päivän kestävään koulutukseen pääsee vain rajallinen määrä osallistujia. Mikäli et pystykään osallistumaan\, peruthan osallistumisesi ajoissa Eduhousen puolella ja vapauta paikkasi jonossa oleville. Eduhousella on oikeus laskuttaa peruuttamatta jääneet paikkamäärärajatut koulutukset ilmoittautujalta.\n \nIlmoittaudu\n 
LOCATION:webinaari
URL:http://tapahtumat.loimu.fi/event/9qrrR
END:VEVENT
END:VCALENDAR
