BEGIN:VCALENDAR
METHOD:PUBLISH
VERSION:2.0
PRODID:-//Eventilla iCal Syndication//NONSGML Liana//EN
BEGIN:VEVENT
UID:AJX2g@eventilla.com
DTSTAMP:20260923T060000Z
DTSTART:20260923T060000Z
DTEND:20260923T090000Z
SUMMARY:Uusi Outlook 2 – hyödynnä ajanhallinnan työkalut
DESCRIPTION:Eduhousen koulutuksiin osallistujilta laskutetaan ensimmäisen ilmoittautumisen jälkeen yksi 50 €:n koulutuslisenssi Loimun toimesta\, jolla saa osallistua niin moneen Eduhousen koulutukseen kuin haluaa vuoden 2026 aikana. \nKuvaus\nVaikuttaako kaikille sopivan kokousajan löytäminen mahdottomalta? Kaipaatko digitaalista ratkaisua ajanhallintaan? Tule tutustumaan Outlookin toimintoihin\, joilla aikataulutat palaverit\, löydät näppärästi kaikille sopivat kokousajan ja pidät tehtävälistasi ajan tasalla. Löydä kaipaamasi toiminnot uudesta Outlookista ja ota uudistunut sovellus haltuun!\nTavoite\nKoulutuksen jälkeen osaat hyödyntää Outlookin kalenteria ja To Do -tehtävänäkymää tapaamistesi ja tehtäviesi hallintaan. Opit myös tekemään sähköpostiviestistä tehtävän tai kokouksen.\nKenelle\nSinulle\, joka haluat oppia hyödyntämään Outlookin ajanhallintatyökaluja päivittäisessä työssäsi. Koulutus soveltuu sekä aiemmasta Outlookin versiosta siirtyville että Outlookiin ensi kertaa tutustuville. Tietokoneen peruskäyttötaidosta on hyötyä.\nOhjelmaversio\nKoulutus soveltuu uusimmalle Outlook-sovellukselle sekä Outlookin selainversiolle. Osa samoista toiminnoista löytyy myös vanhemmista Outlook-versioista\, mutta vanhoja Outlook-versioita ei käsitellä tässä koulutuksessa.\nLue ilmoittautumisen ohjeet ennen kuin ilmoittaudut koulutukseen.\nIlmoittaudu\n 
LOCATION:webinaari
URL:http://tapahtumat.loimu.fi/event/AJX2g
END:VEVENT
END:VCALENDAR
