BEGIN:VCALENDAR
METHOD:PUBLISH
VERSION:2.0
PRODID:-//Eventilla iCal Syndication//NONSGML Liana//EN
BEGIN:VEVENT
UID:AXW6b@eventilla.com
DTSTAMP:20260203T120000Z
DTSTART:20260203T120000Z
DTEND:20260203T163000Z
SUMMARY:Cv-kuvausta ja työnhakutärppejä
DESCRIPTION:Onko työnhaku mielessä tai kaipaatko pientä piristystä työelämäajatuksiin? Haluaisitko päivittää CV-kuvasi\, saada tuoreita vinkkejä ja jutella rennosti asiantuntijoiden kanssa?Tervetuloa tapaamaan muita loimulaisia sekä inspiroitumaan konkreettisista työnhaun vinkeistä. Ohjelmassa on CV-valokuvausta\, rekrytoijien puheenvuoroja ja maistuvaa purtavaa. Tule viihtymään\, verkostoitumaan ja viettämään mukava iltapäivä yhdessä muiden jäsenten kanssa. Voit osallistua koko iltaan tai piipahtaa sinulle sopivaan aikaan.\nPaikalla ovat myös Loimun uravalmentajat\, joilta voit kysellä vinkkejä työnhakuun sekä jäsenpalveluiden ja edunvalvonnan asiantuntijoita. Samalla voit nauttia pientä suolaista ja makeaa purtavaa. Lämpimästi tervetuloa!\nKuvausaikoja on tarjolla klo 18.15 asti. Kuvien latauslinkki toimitetaan jälkikäteen sähköpostiin. \nTarkempi ohjelma löytyy Ohjelma-välilehdeltä. Tapahtuma on ilmainen Loimun jäsenille.
LOCATION:Helsinki\, Pohjoinen Makasiinikatu 6 A\, 00130\, Helsinki\, Suomi
URL:http://tapahtumat.loimu.fi/event/AXW6b
END:VEVENT
END:VCALENDAR
