BEGIN:VCALENDAR
METHOD:PUBLISH
VERSION:2.0
PRODID:-//Eventilla iCal Syndication//NONSGML Liana//EN
BEGIN:VEVENT
UID:Ae4Vv@eventilla.com
DTSTAMP:20241125T110000Z
DTSTART:20241125T110000Z
DTEND:20241125T130000Z
SUMMARY:Windows 11 – tehokäyttöä tekoälyllä
DESCRIPTION:Eduhousen koulutuksiin osallistujilta laskutetaan ensimmäisen ilmoittautumisen jälkeen yksi 50 €:n koulutuslisenssi\, jolla saa osallistua niin moneen koulutukseen kuin haluaa.\nWindows 11 on täynnä tekoälytoimintoja ja voit tutustua niihin tässä koulutuksessa. Opi hyödyntämään Copilotin uusia taitoja\, kuvanmuokkauksen innovaatioita ja paljon muuta!\nTavoite\nKurssin tavoitteena on opettaa osallistujille tehokasta käyttöä Windows 11:n uusien tekoälyominaisuuksien avulla\, mikä lisää tuottavuutta ja käyttäjäkokemuksen laatua.\nKenelle\nKirjoita tähän kenelle kurssi on tarkoitettu ja minkälainen lähtötaso pitää olla osallistuakseen kurssille.\nOhjelmaversio\nKurssi on suunnattu Windows-käyttäjille\, jotka haluavat hyödyntää Windows 11:n uusimpia tekoälyominaisuuksia. Osallistujilta odotetaan perustason Windows-käyttökokemusta.\n \nLue ilmoittautumisen ohjeet ennen kuin ilmoittaudut koulutukseen.\n \nIlmoittaudu\n 
LOCATION:webinaari
URL:http://tapahtumat.loimu.fi/event/Ae4Vv
END:VEVENT
END:VCALENDAR
