BEGIN:VCALENDAR
METHOD:PUBLISH
VERSION:2.0
PRODID:-//Eventilla iCal Syndication//NONSGML Liana//EN
BEGIN:VEVENT
UID:B33yR@eventilla.com
DTSTAMP:20261202T070000Z
DTSTART:20261202T070000Z
DTEND:20261202T090000Z
SUMMARY:Canva Premium 5 – tekoälytoiminnot
DESCRIPTION:Eduhousen koulutuksiin osallistujilta laskutetaan ensimmäisen ilmoittautumisen jälkeen yksi 50 €:n koulutuslisenssi Loimun toimesta\, jolla saa osallistua niin moneen Eduhousen koulutukseen kuin haluaa vuoden 2026 aikana. \nKuvaus\nCanva on kehittynyt huimasti\, ja vuosien 2025–2026 päivitysten myötä sen tekoälyominaisuudet (Canva AI ja Magic Studio) tekevät sisällöntuotannosta ennennäkemättömän nopeaa.\n\nHuom! Canva-koulutukset on päivitetty syksylle 2026Jos olet käynyt aiemmin Canva 1–2 -koulutukset\, suosittelemme jatkamaan uudistettuihin Canva 2–5 -koulutuksiin. Sisältöjä on päivitetty merkittävästi\, ja erityisesti Canva 2 sekä sitä seuraavat osiot sisältävät paljon uutta ja aiempaa syvällisempää sisältöä.\nHuom! Koulutus sisältyy tekoäly-pakettiin ja vaatii erillisen lisenssioikeuden.\n \nTavoite\nTällä tiiviillä ja käytännönläheisellä kurssilla opit hyödyntämään Canvan Premium-tason tekoälytyökaluja työssäsi. Käymme läpi kaiken edistyneestä kuvanmuokkauksesta massasisällöntuotantoon ja tekoälyvideoiden luomiseen. Koulutuksen jälkeen osaat luoda ja muokata kuvia älykkäillä työkaluilla\, generoida kokonaisia julkaisuja tai esityksiä tekoälyn avulla\, ja nopeuttaa sisällöntuotannon rutiineja merkittävästi.\nKenelle\nKoulutus on suunnattu sisällöntuottajille\, markkinoijille\, viestinnän asiantuntijoille ja kaikille visuaalista materiaalia tekeville\, joilla on jo Canvan perusteet hallussa. Haluat ottaa seuraavan askeleen ja valjastaa Canvan uusimmat tekoälytyökalut nopeuttamaan rutiinejasi ja helpottamaan elämääsi.\nOhjelmaversio\nKoulutuksessa käytetään Canvan sen hetken selainversiota. Huomioi\, että tekoälytoiminnot vaativat maksullisen Canva-lisenssin (Pro / Teams).\nLue ilmoittautumisen ohjeet ennen kuin ilmoittaudut koulutukseen.\n \nIlmoittaudu\n 
LOCATION:webinaari
URL:http://tapahtumat.loimu.fi/event/B33yR
END:VEVENT
END:VCALENDAR
