BEGIN:VCALENDAR
METHOD:PUBLISH
VERSION:2.0
PRODID:-//Eventilla iCal Syndication//NONSGML Liana//EN
BEGIN:VEVENT
UID:BgpBp@eventilla.com
DTSTAMP:20260427T130000Z
DTSTART:20260427T130000Z
DTEND:20260427T150000Z
SUMMARY:Kevään kuplivin kohtaaminen – vappuetkot yrittäjille!
DESCRIPTION:Tervetuloa virittäytymään vapun iloisiin tunnelmiin maanantaina 27.4.2026 klo 16–18.00 Helsingin Deliberiin!\nTarjolla on vappuhenkistä pikku purtavaa kuohuvan kera sekä ennen kaikkea rentoa verkostoitumista akavalaisten yrittäjien kesken. Tule vaihtamaan ajatuksia\, tapaamaan tuttuja ja tutustumaan uusiin kasvoihin.\nVoit poiketa paikalle hetkeksi työpäivän lomassa tai viihtyä koko tilaisuuden ajan – ihan oman aikataulusi mukaan.\nTapahtuma on maksuton ja tarkoitettu yrittäjille sekä yrittäjyydestä kiinnostuneille.\nlmoittauduthan 17.4. mennessä. Paikkoja on rajoitetusti\, joten varmista omasi ajoissa!\nTilaisuuden järjestää AKY - Akavalaiset yrittäjät. AKY tarjoaa tapahtumia ja webinaareja kaikille 22 jäsenliittonsa jäsenille. Jos kuulut johonkin AKYn jäsenliittoon\, olet automaattisesti myös AKYn jäsen ja tervetullut tilaisuuksiin. \n \n
LOCATION:Deliberi Keskuskatu (World Trade Center Helsinki)\, Keskuskatu
 7\, 00100\, Helsinki\, Suomi
URL:http://tapahtumat.loimu.fi/event/BgpBp
END:VEVENT
END:VCALENDAR
