BEGIN:VCALENDAR
METHOD:PUBLISH
VERSION:2.0
PRODID:-//Eventilla iCal Syndication//NONSGML Liana//EN
BEGIN:VEVENT
UID:DVGB0@eventilla.com
DTSTAMP:20260205T140000Z
DTSTART:20260205T140000Z
DTEND:20260205T150000Z
SUMMARY:Loimu membership in a Nutshell\, part 2
DESCRIPTION:Loimu Membership in a Nutshell: Support and Services the Union provides to its members + member benefits\nThe webinar will be held in Finnish\, but there is a possibility to participate in English\, and English online translation is provided.\nAre you a new Loimu member\, or have you been a member for a while? Would you like to learn more about how to easily manage your membership matters\, or do you have a specific question about your membership that you’d like answered? Then this webinar is for you!\nIn this webinar\, you’ll get the best tips on Loimu’s services for member:\n\n\nLegal advice and other support from lawyers in work related matters\n\n\nCareer services\n\n\nTrainings and webinars that Loimu offers\n\n\nMember benefits: Member+\, travel insurance\, banking benefits\n\n\nLegal advice for private life matters\n\n\nLegal protection benefit\n\n\n \nWho is it for\nAll Loimu members — both new and long-time members.\nTrainers\nSuvi Liikkanen\, Career Services Manager\, LoimuMira Airola\, Member Experience Manager\, Loimu\nLocation\nTeams. A link will be sent to registered participants closer to the webinar date.\nPrice \nFree for Loimu members\n \nSign in through Finnish event site 
LOCATION:webinar
URL:http://tapahtumat.loimu.fi/event/DVGB0
END:VEVENT
END:VCALENDAR
