BEGIN:VCALENDAR
METHOD:PUBLISH
VERSION:2.0
PRODID:-//Eventilla iCal Syndication//NONSGML Liana//EN
BEGIN:VEVENT
UID:DVwzz@eventilla.com
DTSTAMP:20250424T143000Z
DTSTART:20250424T143000Z
DTEND:20250424T163000Z
SUMMARY:Members' Get-Together at Allas Sea Pool
DESCRIPTION:Welcome to Loimu Members' Get-Together!\nTiia Fehrmann  from International Talent Employment Service at Helsinki Employment Services will tell us about the current changes in the Employment Services in Finland. We will also learn about the services provided to international job-seekers.\nInterested in learning about Loimu’s services and how we support our members to succeed in the working life? Want to get to know other Loimu members? Sign up and invite your colleagues too! \nDrinks and snacks are also available.\nPLEASE NOTICE: Registration is binding. A fee of 15 euros will be charged to cover costs for no-shows without prior notice or cancellations made after April 21th.
LOCATION:Helsinki\, Katajanokanlaituri 2 a\, 00160\, Helsinki
URL:http://tapahtumat.loimu.fi/get-together2025
END:VEVENT
END:VCALENDAR
