BEGIN:VCALENDAR
METHOD:PUBLISH
VERSION:2.0
PRODID:-//Eventilla iCal Syndication//NONSGML Liana//EN
BEGIN:VEVENT
UID:EGeQ9@eventilla.com
DTSTAMP:20260127T140000Z
DTSTART:20260127T140000Z
DTEND:20260127T153000Z
SUMMARY:Loimu Membership in a Nutshell\, part 1
DESCRIPTION:Loimu Membership in a Nutshell: Membership\, Fees\, and Contacting\nThe webinar will be held in Finnish\, but there is a possibility to participate in English\, and English online translation is provided.\nAre you a new Loimu member\, or have you been a member for a while? Would you like to learn more about how to easily manage your membership matters\, or do you have a specific question about your membership that you’d like answered? Then this webinar is for you!\nIn this webinar\, you’ll get the best tips on:\n\nManaging your membership and personal information via OmaLoimu\nPaying membership fees\nMembership fee discounts\nHow to best contact Loimu’s experts\n\nWho is it for:\nAll Loimu members — both new and long-time members.\nTrainers:\nSuvi Liikkanen\, Career Services Manager\, LoimuMira Airola\, Member Experience Manager\, Loimu\nLocation:Teams. A link will be sent to registered participants closer to the webinar date.\nSign in through Finnish event pages
LOCATION:webinar
URL:http://tapahtumat.loimu.fi/event/EGeQ9
END:VEVENT
END:VCALENDAR
