BEGIN:VCALENDAR
METHOD:PUBLISH
VERSION:2.0
PRODID:-//Eventilla iCal Syndication//NONSGML Liana//EN
BEGIN:VEVENT
UID:EllVd@eventilla.com
DTSTAMP:20261015T060000Z
DTSTART:20261015T060000Z
DTEND:20261015T080000Z
SUMMARY:ChatGPT 3 – promptit ja projektit
DESCRIPTION:Eduhousen koulutuksiin osallistujilta laskutetaan ensimmäisen ilmoittautumisen jälkeen yksi 50 €:n koulutuslisenssi Loimun toimesta\, jolla saa osallistua niin moneen Eduhousen koulutukseen kuin haluaa vuoden 2026 aikana. \nKuvaus\nTekoälyn avulla voidaan tuottaa monipuolista sisältöä\, mutta sen todellinen potentiaali tulee esiin vasta\, kun osaat ohjata sitä tarkoituksenmukaisesti ja hyödyntää sen edistyneitä ominaisuuksia. Tarkalla ja osaavalla ohjauksella tekoälystä kehkeytyy arvokas apuri\, joka tehostaa työskentelyäsi ja auttaa saavuttamaan parempia tuloksia vaivattomammin.\n\nHuom! ChatGPT-koulutuksia on päivitetty syksylle 2026.Jos olet osallistunut ChatGPT 1–3 -koulutuksiin aiemmin\, voit silti hyvin osallistua ChatGPT 3–4 -koulutuksiin\, sillä sisältöjä on päivitetty vastaamaan ChatGPT:n uusimpia ominaisuuksia. Näissä osissa käydään läpi mm. prompteja\, projekteja\, agentteja ja muita edistyneempiä käyttötapoja.\nTavoite\nTämän koulutuksen tavoitteena on syventää osaamistasi ChatGPT:n käytössä\, sekä antaa sinulle työkalut ja tekniikat hyödyntävät tekoälyä vaativammissa projekteissa ja tehtävissä. Opit joukon tehokasta promptaamista\, sekä ChatGPT:n edistyneimpien työkalujen käyttöä\, kuten projektien hyödyntämistä.\nKenelle\nKoulutus on suunnattu henkilöille\, jotka jo hallitsevat ChatGPT:n perusteet ja haluavat laajentaa osaamistaan. Suosittelemme osallistumaan tätä kurssia ennen ChatGPT 1 ja 2-koulutuksiin.\nOhjelmaversio\nTässä koulutuksessa käytetään uusinta ChatGPT-versiota. Löydät sen tämän linkin kautta ChatGPT. Suosittelemme kirjautumaan palveluun ennen koulutuksen alkua.\nLue ilmoittautumisen ohjeet ennen kuin ilmoittaudut koulutukseen.\n \nIlmoittaudu\n 
LOCATION:webinaari
URL:http://tapahtumat.loimu.fi/event/EllVd
END:VEVENT
END:VCALENDAR
