BEGIN:VCALENDAR
METHOD:PUBLISH
VERSION:2.0
PRODID:-//Eventilla iCal Syndication//NONSGML Liana//EN
BEGIN:VEVENT
UID:JB74O@eventilla.com
DTSTAMP:20240529T060000Z
DTSTART:20240529T060000Z
DTEND:20240529T130000Z
SUMMARY:Power BI 5 – Python-visualisoinnit
DESCRIPTION:Eduhousen koulutuksiin osallistujilta laskutetaan ensimmäisen ilmoittautumisen jälkeen yksi 50 €:n vuosilisenssi\, jolla saa osallistua niin moneen koulutukseen kuin haluaa.\nTiivistelmä\nVisualisoinnit vaativat joskus edistyneempää data-analytiikkaa kuin se\, mitä Power BI tarjoaa. Power BI -visualisoinneissa ja analytiikassa käytetäänkin Python-ohjelmointikieltä\, sillä Power BI tukee useita Pythonin ohjelmakirjastoista\, kuten numpy\, pandas\, matplotlib\, seaborn\, scikit-learn\, scipy ja statsmodels. Tässä koulutuksessa opit Pythonin perusteet ja Python-ohjelmointikielen käytön Power BI:n visualisoinneissa ja analytiikassa.\nTavoite\nKoulutuksessa tutustut tehokkaaseen Python-ohjelmointikieleen Power BI -ympäristössä. Opit määrittämään Python-ympäristön käyttöön Power BI -ohjelmassa sekä tekemään yksinkertaista data-analytiikkaa ja näyttäviä visualisointeja.\nKenelle\nKoulutus soveltuu niille\, jotka osaavat Power BI:n peruskäytön ja haluavat syventää ohjelman käyttöä. Toivomme osallistujilta Power BI:n peruskäytön hallintaa\, mutta Python-kielen osaamista ei edellytetä.\nOhjelmaversio\nKoulutuksessa käytämme Power BI Desktop -ohjelman uusinta versiota ja Anaconda-kehitysympäristöön kuuluvaa selainpohjaista Jupyter Notebookia sekä WinPython ympäristön viimeisintä versiota. Suosittelemme lataamaan sovellukset ennen koulutuksen alkua.\nLue ilmoittautumisohjeet ennen kuin ilmoittaudut koulutukseen.\nIlmoittaudu\n 
LOCATION:webinaari
URL:http://tapahtumat.loimu.fi/event/JB74O
END:VEVENT
END:VCALENDAR
