BEGIN:VCALENDAR
METHOD:PUBLISH
VERSION:2.0
PRODID:-//Eventilla iCal Syndication//NONSGML Liana//EN
BEGIN:VEVENT
UID:JwGob@eventilla.com
DTSTAMP:20260505T100000Z
DTSTART:20260505T100000Z
DTEND:20260505T120000Z
SUMMARY:Microsoft 365 Copilot 1 – perusteet
DESCRIPTION:Eduhousen koulutuksiin osallistujilta laskutetaan ensimmäisen ilmoittautumisen jälkeen yksi 50 €:n koulutuslisenssi Loimun toimesta\, jolla saa osallistua niin moneen Eduhousen koulutukseen kuin haluaa vuoden 2026 aikana. \nKuvaus\nTekoälyn käyttö on erittäin tärkeä perustaito\, ja tämä koulutus auttaa pääsemään alkuun Microsoft 365 Copilot-tekoälyn kanssa.\nTavoite\nKurssin tavoitteena on opastaa Microsoft Copilot Chat -tekoälyn käytössä Microsoft 365-ympäristössä\, sekä selittää palvelun perusominaisuudet ja kuinka voit hyödyntää niitä työssäsi. Opit myös perusteet miten kirjoittaa hyviä komentoja saadaksesi chatistä kaikki irti!\nKenelle\nKurssi on tarkoitettu peruskäyttäjille\, yritysjohtajille\, IT-asiantuntijoille\, ja kaikille\, jotka ovat kiinnostuneita tekoälypohjaisten chat-ratkaisujen hyödyntämisestä yritysympäristössä. Koulutus sopii kaikkien Microsoft Copilotin työversiota käyttäville.\nOhjelmaversio\nKoulutuksessa käytetään Microsoft Copilot-tekoälyn sen hetkistä versiota selaimen kautta\, erillisiä sovelluksia ei tarvita.\nLue ilmoittautumisen ohjeet ennen kuin ilmoittaudut koulutukseen.\n \nIlmoittaudu\n 
LOCATION:webinaari
URL:http://tapahtumat.loimu.fi/event/JwGob
END:VEVENT
END:VCALENDAR
