BEGIN:VCALENDAR
METHOD:PUBLISH
VERSION:2.0
PRODID:-//Eventilla iCal Syndication//NONSGML Liana//EN
BEGIN:VEVENT
UID:LPQl6@eventilla.com
DTSTAMP:20260505T140000Z
DTSTART:20260505T140000Z
DTEND:20260505T150000Z
SUMMARY:Tunnista osaamisesi
DESCRIPTION:Koulutuksessa ei keskitytä pelkästään ansioluettelon hiomiseen tai hakemusten muokkaamiseen. Sen sijaan pysähdymme pohtimaan\, mitä kaikkea osaaminen voi olla – ja miten sen voi tunnistaa arjen\, harrastusten\, vapaaehtoistyön tai aiempien työtehtävien kautta.\nKoulutus tarjoaa käytännönläheisen ja kannustavan otteen\, jossa osaamisen tunnistaminen ei ole vain tekninen prosessi\, vaan vahvistaa itsetuntemusta ja ammatillista itsetuntoa.\nKoulutuksessa tehdään konkreettisia harjoituksia\, jotka auttavat tunnistamaan omaa osaamista ja sanoittamaan sitä tavalla\, joka tukee työnhakua ja urakehitystä.\nMitä koulutus tarjoaa\nKoulutus tarjoaa mahdollisuuden pysähtyä oman osaamisen äärelle ja tarkastella sitä uusista näkökulmista. Saat ideoita ja harjoituksia\, jotka auttavat tunnistamaan\, jäsentämään ja sanoittamaan omaa osaamistasi työnhaun ja urasuunnittelun tueksi. Tavoitteena on lisätä ymmärrystä omista vahvuuksista ja antaa eväitä niiden hyödyntämiseen käytännössä.\nKohderyhmä\nKoulutus on suunnattu erityisesti työttömille ja työttömyysuhan alla oleville jäsenille\, jotka pohtivat omaa osaamistaan ja sen sanoittamista työnhaussa tai urasuunnittelussa.\nKouluttaja\nHanna Siefen on oppimisen psykologi (PsM)\, osaamisen kehittämisen ja tunnistamisen asiantuntija\, kouluttaja\, tietokirjailija ja podcast-tuottaja. Hannan työssä yhdistyvät psykologinen ymmärrys\, tutkimustieto ja käytännönläheiset menetelmät\, jotka auttavat tekemään osaamisen näkyväksi ja vahvistamaan ammatillista itsetuntoa.\nIlmoittaudu
LOCATION:webinaari
URL:http://tapahtumat.loimu.fi/event/LPQl6
END:VEVENT
END:VCALENDAR
