BEGIN:VCALENDAR
METHOD:PUBLISH
VERSION:2.0
PRODID:-//Eventilla iCal Syndication//NONSGML Liana//EN
BEGIN:VEVENT
UID:Lz341@eventilla.com
DTSTAMP:20260528T133000Z
DTSTART:20260528T133000Z
DTEND:20260528T163000Z
SUMMARY:Tutustu Harakan saareen ja Loimun jäsenyhdistyksiin Helsingissä
DESCRIPTION:Tervetuloa tutustumaan Harakan saareen sekä Loimun jäsenyhdistyksiin!\nTilaisuuden tavoitteena on tutustua Harakan saareen\,  oman alan kolleegoihin\, urapolkuihin ja Loimun yhdistyksiin. \nTyöskenteletkö ympäristöterveyden tai yksityismetsätalouden tehtävissä? Oletko opiskelija\, vastavalmistunut tai Ympäristöterveyden Loimu ry:n tai Yksityismetsätalouden metsänhoitajat ry:n uusi jäsen? Olet tervetullut tilaisuuteemme\, kuten myös kaikki aiheesta kiinnostuneet loimulaiset ja vielä Loimuun kuulumattomat.\nOHJELMA\n16.15 Kokoontuminen Ullanlinnanlaituriin (Ehrenströmintie 3) yhteysveneelle. Menopaluu lipun hinta 9 euroa\, eläkeläiset 6 euroa. Suosimalla MobilePay -maksua teet yhteysveneen liikennöinnistä sujuvampaa. Myös pankki/luotokortilla voit maksaa.\n16.40 siirtyminen yhteysveneeltä saareen\n16.50-17.20 Loimu ja Loimun yhdistykset- Ympäristöterveyden Loimu ry/Asta Ekman- Yksityismetsätalouden metsänhoitajat/ Enskilda Skogsbrukets Forstmästare ry/Airi Matila\n17.20-17.50 Iltapalaa ja keskustelua\n18.00-19.30 Tutustuminen saareen kävellen Asta Ekmanin johdolla. Voit palata mantereelle oman aikataulusi mukaisesti.\nTilaisuuden jälkeen omatoimista yhdessäoloa ja tutustumista viereiseen Särkänsaareen\, jonne pääsee samalla yhteyslipulla. Viimeinen yhteysalus lähtee Särkästä noin klo 22.00 \, joka saapuu Ullanlinnanlaiturille kello noin 22.10.\nKysy lisää:\nAsta Ekman etunimi.sukunimi@hel.fiAiri Matila etunimi.sukunimi@gmail.com
LOCATION:Harakan saari (lähtö Ullanlinnanlaituri)\, Ehrenströmintie 3\,
 00140\, Helsinki
URL:http://tapahtumat.loimu.fi/event/Lz341
END:VEVENT
END:VCALENDAR
