BEGIN:VCALENDAR
METHOD:PUBLISH
VERSION:2.0
PRODID:-//Eventilla iCal Syndication//NONSGML Liana//EN
BEGIN:VEVENT
UID:Lzzqd@eventilla.com
DTSTAMP:20261118T110000Z
DTSTART:20261118T110000Z
DTEND:20261118T130000Z
SUMMARY:AI – better prompting
DESCRIPTION:Participants in Eduhouse training sessions will be invoiced a single €50 training license fee by Loimu after their first registration. This license allows unlimited participation in Eduhouse training sessions throughout 2026. Members exempt from the license fee are those classified in membership fee discount categories 1–3 due to low income at the time of invoicing\, as well as recent graduates.\nDescription\nCommanding\, or prompting\, AI is not rocket science\, but it is an important skill. It allows the AI ​​to answer questions in the right way and create the kind of content you really want. An incorrectly constructed prompt produces poor results and hallucinations.\nGoal\nIn the training\, you will learn how to build prompts for AI correctly and effectively. You will learn the basic structure of a prompt\, how to reduce the risk of hallucination (i.e. incorrect information)\, and you will get several examples of where artificial intelligence can be used.\nTarget audience\nThe training is suitable for anyone considering using AI\, or anyone who already uses it\, who wants to learn how to better interact with it. The course is suitable for users of various AIs\, such as Copilot\, ChatGPT and Gemini and others.\nProgram version\nThe training does not require any specific application.\nRead the registration instructions before signing up for the training. \n \nRegister
LOCATION:webinar
URL:http://tapahtumat.loimu.fi/event/Lzzqd
END:VEVENT
END:VCALENDAR
