BEGIN:VCALENDAR
METHOD:PUBLISH
VERSION:2.0
PRODID:-//Eventilla iCal Syndication//NONSGML Liana//EN
BEGIN:VEVENT
UID:M042B@eventilla.com
DTSTAMP:20240119T110000Z
DTSTART:20240119T110000Z
DTEND:20240119T140000Z
SUMMARY:Google Analytics – 4 jatko
DESCRIPTION:Opi käyttämään tehokkaasti Google Analytics 4 eli GA4 -versiota sivustoseurannan työvälineenä. Opi tekemään omia tapahtumia ja konversioita.\nTavoite\nKoulutuksen jälkeen osaat käyttää tehokkaasti Google Analytics 4 ohjelmaa sekä mukauttaa sitä omaan käyttöösi sopivaksi.\nKenelle\nKoulutus sopii kaikille sivustoanalytiikasta kiinnostuneille.\nOhjelmaversio\nKäytämme koulutuksissa uusinta Google Analytics 4 (GA4) versiota.\nLue ilmoittautumisohjeet ennen kuin ilmoittaudut koulutukseen.\nIlmoittaudu\n 
LOCATION:webinaari
URL:http://tapahtumat.loimu.fi/event/M042B
END:VEVENT
END:VCALENDAR
