BEGIN:VCALENDAR
METHOD:PUBLISH
VERSION:2.0
PRODID:-//Eventilla iCal Syndication//NONSGML Liana//EN
BEGIN:VEVENT
UID:M776v@eventilla.com
DTSTAMP:20260909T100000Z
DTSTART:20260909T100000Z
DTEND:20260909T113000Z
SUMMARY:AI now – status report
DESCRIPTION:Participants in Eduhouse training sessions will be invoiced a single €50 training license fee by Loimu after their first registration. This license allows unlimited participation in Eduhouse training sessions throughout 2026. Members exempt from the license fee are those classified in membership fee discount categories 1–3 due to low income at the time of invoicing\, as well as recent graduates.\nDescription\nThe course introduces current trends and applications in artificial intelligence (AI) and provides a comprehensive overview of the current state of AI.\nGoal\nThe goal is to provide participants with a deep understanding of the current state of AI\, its applications\, and future prospects.\nTarget audience\nThe course is aimed at anyone interested in the current state of artificial intelligence\, and no specific starting level is required.\nProgram version\nThe training introduces the latest versions of AI applications.\nRead the registration instructions before signing up for the training. \n \nRegister
LOCATION:webinar
URL:http://tapahtumat.loimu.fi/event/M776v
END:VEVENT
END:VCALENDAR
