BEGIN:VCALENDAR
METHOD:PUBLISH
VERSION:2.0
PRODID:-//Eventilla iCal Syndication//NONSGML Liana//EN
BEGIN:VEVENT
UID:M7KNe@eventilla.com
DTSTAMP:20261021T100000Z
DTSTART:20261021T100000Z
DTEND:20261021T120000Z
SUMMARY:Saavutettavuus – PowerPoint-esitykset
DESCRIPTION:Eduhousen koulutuksiin osallistujilta laskutetaan ensimmäisen ilmoittautumisen jälkeen yksi 50 €:n koulutuslisenssi Loimun toimesta\, jolla saa osallistua niin moneen Eduhousen koulutukseen kuin haluaa vuoden 2026 aikana. \nKuvaus\nTee esityksiä\, jotka tavoittavat kaikki! Tämä koulutus antaa konkreettiset työkalut\, vinkit ja parhaat käytännöt PowerPoint-esitysten saavutettavuuden parantamiseen.\nTavoite\nTavoitteena on oppia hyödyntämään PowerPointin saavutettavuustyökaluja\, kuten vaihtoehtotekstien lisääminen ja helppokäyttöisyyden tarkistuksen tekeminen.\nKenelle\nKoulutus on tarkoitettu kaikille PowerPointin perusteet hallitseville\, jotka haluavat tehdä esityksistään saavutettavia ja huomioida erilaiset käyttäjäryhmät. Jos haluat kerrata perusteet ensin\, onnistuu se koulutuksessa: PowerPoint 1 – perusteet haltuun.\nSuosittelemme osallistumaan tätä kurssia ennen Saavutettavuus – käytännön perusteet -koulutukseen.\nOhjelmaversio\nKoulutus toteutetaan PowerPointin uusimmalla Microsoft 365 -versiolla. Opitut taidot soveltuvat pääsääntöisesti myös muihin yleisesti käytössä oleviin PowerPoint-versioihin.\nLue ilmoittautumisen ohjeet ennen kuin ilmoittaudut koulutukseen.\nIlmoittaudu\n 
LOCATION:webinaari
URL:http://tapahtumat.loimu.fi/event/M7KNe
END:VEVENT
END:VCALENDAR
