BEGIN:VCALENDAR
METHOD:PUBLISH
VERSION:2.0
PRODID:-//Eventilla iCal Syndication//NONSGML Liana//EN
BEGIN:VEVENT
UID:N4y4W@eventilla.com
DTSTAMP:20241003T150000Z
DTSTART:20241003T150000Z
DTEND:20241003T160000Z
SUMMARY:Tohtorina yliopiston ulkopuolella - urailta 2/3
DESCRIPTION:Oletko tohtoritutkinnon suorittanut ja pohdit vaihtoehtojasi työurallesi? Vai harkitsetko vasta jatko-opintoja\, mutta sinua pohdituttaa tutkinnon tuomat mahdollisuudet urallesi?  \nMoni tohtorikoulutuksen suorittanut työskentelee yliopiston ulkopuolella. Tohtorina yliopiston ulkopuolella –urailtojen tavoitteena on avartaa tohtoritutkinnon suorittaneiden työmahdollisuuksien kenttää ja tuoda esille tohtoritutkinnon mukanaan tuomia etuja ja työelämätaitoja työmarkkinoilla. \nTule kuulemaan tohtorien moninaisista urapoluista! Tilaisuudet ovat vuoropuhelumaisia ja voit myös esittää puhujille kysymyksiä.\nTilaisuuksien järjestäjinä toimivat yhteistyössä Loimu ry\, Yhteiskunta-alan korkeakoulutetut ry ja Tohtoriverkosto ry.\nAika: Tohtoriverkoston organisoima tilaisuus to 3.10. klo 18-19. Kaikkien kolmen toteuttajaorganisaation jäsenet voivat osallistua kaikkiin tilaisuuksiin ilman paikkarajoitteita. \nMuut tapahtumapäivät ovat to 19.9. ja to 7.11.\, jälkimmäinen englanniksi.\nIlmoittautuminen: Ilmoittaudu viimeistään 30.9.\nPaikka: Zoom Meetings\nIlan vieraina ovat FT Kate Sotejeff-Wilson\, yrittäjä KSW Translations ja FT Virpi Slotte\, DIAK.\nFT Kate Sotejeff-Wilson on väitellyt historiasta 2005. Väitöksen aikana hän työskenteli arkistoissa Lontoossa\, Varsovassa ja Berliinissä ja sen ohessa alkoi tehdä käännöksiä ja kielentarkastuksia kollegoille. Hän johtaa perustamaansa KSW Translations -yritystä\, ohjaa Ridge Writing Retreats -kirjoitusretriittejä ja on Nordic Editors and Translators -yhdistyksen puheenjohtaja.\nFT Virpi Slotte muutti heti kasvatuspsykologian väitöstilaisuuden jälkeen Pekingiin\, jossa hän työskenteli Nokia Learning Center Chinassa. Sen jälkeen työpaikaksi valikoitui Sanoma konserniin kuuluvat  kolme hyvin erikokoista yritystä. Sen jälkeen matka jatkui ammatilliseen täydennyskoulutukseen ja nyt on vuorossa listalta vielä puuttuva ammattikorkeakoulu.\nLisätiedot: urapalvelut@loimu.fi
LOCATION:webinaari
URL:http://tapahtumat.loimu.fi/event/N4y4W
END:VEVENT
END:VCALENDAR
