BEGIN:VCALENDAR
METHOD:PUBLISH
VERSION:2.0
PRODID:-//Eventilla iCal Syndication//NONSGML Liana//EN
BEGIN:VEVENT
UID:O5o6Y@eventilla.com
DTSTAMP:20260923T100000Z
DTSTART:20260923T100000Z
DTEND:20260923T120000Z
SUMMARY:Teams – kontrolloidut kokoukset\, hävitä häiriöt!
DESCRIPTION:Eduhousen koulutuksiin osallistujilta laskutetaan ensimmäisen ilmoittautumisen jälkeen yksi 50 €:n koulutuslisenssi Loimun toimesta\, jolla saa osallistua niin moneen Eduhousen koulutukseen kuin haluaa vuoden 2026 aikana. \nKuvaus\nKoulutus on suunnattu niille\, jotka eivät halua vain pitää Teams-kokousta\, vaan johtaa sitä hallitusti. Koulutuksessa keskitytään kokousten ja tapahtumien ohjaamiseen niin\, että häiriöt vähenevät\, osallistujaroolit ovat selvät ja vuorovaikutus pysyy järjestyksessä. Osallistujat oppivat vähentämään häiriö tulvaa\, valitsemaan oikean formaatin\, sekä hyödyntämään kokoukseen liittyviä resursseja ja toimintoja.\nTavoite\nKoulutuksen jälkeen osallistuja osaa rakentaa hallitun Teams-kokouksen tai -tapahtuman\, jossa osallistujakokemus on selkeä\, roolit ovat oikein määritetty ja häiriötekijät minimoitu.\nKenelle\nKoulutus sopii heille\, jotka haluavat saada Teamsinsa hallintaan.\nOhjelmaversio\nKoulutuksessa käytetään Teamssin työpöytäversiota. Koulutus soveltuu osin myös selainversion käyttäjille.\nLue ilmoittautumisen ohjeet ennen kuin ilmoittaudut koulutukseen.\nIlmoittaudu\n 
LOCATION:webinaari
URL:http://tapahtumat.loimu.fi/event/O5o6Y
END:VEVENT
END:VCALENDAR
