BEGIN:VCALENDAR
METHOD:PUBLISH
VERSION:2.0
PRODID:-//Eventilla iCal Syndication//NONSGML Liana//EN
BEGIN:VEVENT
UID:Oow7B@eventilla.com
DTSTAMP:20260415T140000Z
DTSTART:20260415T140000Z
DTEND:20260415T150000Z
SUMMARY:Understanding leadership in Finland: what matters and why
DESCRIPTION:Content\nThe keynote speaker will discuss commonly proclaimed ideals – such as trust\, equality\, and autonomy – and how these values have or have not shaped leadership practices in Finland. The session will include examples from common procedures like performance reviews and task delegation\, helping participants gain insight into what to expect and how to navigate leadership interactions in Finnish work environments. \nAim of the training\nYou shall gain a compact overview of leadership culture in Finnish workplaces. You will learn how leadership values have been interpreted in the Finnish environment and how they manifest in everyday workplace interactions.\nTarget group\nTraining is targeted to members\, who are interested in understanding Finnish workplace leadership norms and expectations.\nLocation\nTeams\nTrainer\nMinna Ekblom is an adult educator\, visiting university lecturer and internationally certified coach. Entrepreneur and Advisory Board member focusing on the development and assessment of leadership\, management\, supervisor work\, and competence management.\nThe training is free of charge for Loimu members. There will be no recording\, so please join the live training.\nSign in latest 12th of April.\nSign in
LOCATION:webinar
URL:http://tapahtumat.loimu.fi/event/Oow7B
END:VEVENT
END:VCALENDAR
