BEGIN:VCALENDAR
METHOD:PUBLISH
VERSION:2.0
PRODID:-//Eventilla iCal Syndication//NONSGML Liana//EN
BEGIN:VEVENT
UID:PoeOk@eventilla.com
DTSTAMP:20250528T100000Z
DTSTART:20250528T100000Z
DTEND:20250528T130000Z
SUMMARY:Microsoft 365 – tehtävien hallinta ja automatisointi
DESCRIPTION:Eduhousen koulutuksiin osallistujilta laskutetaan ensimmäisen ilmoittautumisen jälkeen yksi 50 €:n koulutuslisenssi Loimun toimesta\, jolla saa osallistua niin moneen Eduhousen koulutukseen kuin haluaa vuoden 2025 aikana. \nKuvaus\nOffice 365:n Planner\, To Do ja Power Automate -sovelluksilla teet työsi entistäkin helpommin\, kun tehtävienhallinta ja automatisointi ovat hallussa. Sovellusten avulla voit hallinnoida tehtäviäsi ja automatisoida osan työnteostasi niin\, ettei sinun tarvitse enää murehtia\, mitä piti tehdä milloinkin.\nTavoite\nOpit kurssilla käyttämään Office 365:n Planner\, To Do ja Power Automate -sovelluksia ja luomaan itsellesi tehtävälistauksia\, tekemään tiimillesi suunnitelman tehtävistä sekä toteuttamaan automatisoituja työnkulkuja.\nKenelle\nKoulutus on suunnattu Office 365- käyttäjille. Osallistujilta toivomme tietotekniikan perusteiden osaamista.\nOhjelmaversio\nKoulutuksessa käytämme Microsoft Office 365 uusinta versiota.\nLue ilmoittautumisen ohjeet ennen kuin ilmoittaudut koulutukseen.\nIlmoittaudu\n 
LOCATION:webinaari
URL:http://tapahtumat.loimu.fi/event/PoeOk
END:VEVENT
END:VCALENDAR
