BEGIN:VCALENDAR
METHOD:PUBLISH
VERSION:2.0
PRODID:-//Eventilla iCal Syndication//NONSGML Liana//EN
BEGIN:VEVENT
UID:QVPq2@eventilla.com
DTSTAMP:20260528T060000Z
DTSTART:20260528T060000Z
DTEND:20260528T070000Z
SUMMARY:Tekoäly sparraajana
DESCRIPTION:Eduhousen koulutuksiin osallistujilta laskutetaan ensimmäisen ilmoittautumisen jälkeen yksi 50 €:n koulutuslisenssi Loimun toimesta\, jolla saa osallistua niin moneen Eduhousen koulutukseen kuin haluaa vuoden 2026 aikana. \nKuvaus\nTutustu tekoälyn hyödyntämiseen henkilökohtaisena sparraajana. Saat konkreettisia vinkkejä tekoälyn käyttöön oppimisessa ja vuorovaikutustilanteiden treenaamisessa – sekä lukuisia sparrailuvinkkejä\, joita voit testata vaikka heti!\nTavoite\nKoulutuksessa opit hyödyntämään tekoälysovelluksia käytännön apuna oman osaamisen kehittämisessä\, viestintätilanteiden harjoittelussa ja uusien ideoiden jalostamisessa.\nKenelle\nKoulutus sopii kaikille\, jotka haluavat hyödyntää ChatGPT:n\, Copilotin tai Geminin kaltaisia sovelluksia työnsä tai opiskelunsa tukena. Tässä koulutuksessa keskitymme sparrailuvinkkeihin\, joten on hyvä\, jos sinulla on jo käyttämäsi sovelluksen perusteet hallussa.\nOhjelmaversio\nKoulutuksen esimerkkeihin käytämme ChatGPT:tä tai Copilot Chatia. Voi osallistua\, vaikka itse käyttäisit muuta vastaavaa tekoälysovellusta.\nLue ilmoittautumisen ohjeet ennen kuin ilmoittaudut koulutukseen.\n \nIlmoittaudu\n 
LOCATION:webinaari
URL:http://tapahtumat.loimu.fi/event/QVPq2
END:VEVENT
END:VCALENDAR
