BEGIN:VCALENDAR
METHOD:PUBLISH
VERSION:2.0
PRODID:-//Eventilla iCal Syndication//NONSGML Liana//EN
BEGIN:VEVENT
UID:QVPzK@eventilla.com
DTSTAMP:20260423T100000Z
DTSTART:20260423T100000Z
DTEND:20260423T110000Z
SUMMARY:Kirjoituksen parantaminen ja kielenhuolto tekoälyllä
DESCRIPTION:Eduhousen koulutuksiin osallistujilta laskutetaan ensimmäisen ilmoittautumisen jälkeen yksi 50 €:n koulutuslisenssi Loimun toimesta\, jolla saa osallistua niin moneen Eduhousen koulutukseen kuin haluaa vuoden 2026 aikana. \nKuvaus\nTekoäly on yllättävän hyvä työkalu omien tekstien paranteluun. Se osaa korjata kirjoitusvirheitä\, kielioppia ja jopa asiavirheitä. Tässä koulutuksessa tutustumme tekoälyn käyttöön tekstiemme parantelussa.\nTavoite\nTutustu tekoälyn mahdollisuuksiin kirjoittamisessa ja kielenhuollossa! Opi muuntamaan ammattikieli yleiskieleksi\, selkeyttämään tekstiä ja käyttämään tekoälyä kielen kääntämiseen ja oikolukuun. Kurssi antaa kyvyt ymmärtää\, miten tekoäly voi auttaa kirjoittamisprosessissa ja parantaa osaamista tekstien muokkaamisessa ja kielenhuollossa tekoälyn avulla. Lisäksi saat oppia siitä\, miten tuottaa selkeää tekstiä.\nKenelle\nKurssi on suunnattu kaikille\, jotka haluavat parantaa tekstiensä kielioppia tai tyyliä tekoälyllä. Se sopii bloggaajille\, sähköpostia kirjoittaville\, toimittajille\, opiskelijoille ja kaikille\, jotka haluavat tutustua tekoälyn kykyyn parantaa tekstiä. Ei vaadi aiempaa osaamista tekoälytyökaluista.\nOhjelmaversio\nKoulutuksessa käytetään ChatGPT-tekoälyä\, mutta koulutus soveltuu myös muiden tekoälysovellusten käyttäjille\, esimerkiksi Copilot tai Gemini.\nLue ilmoittautumisen ohjeet ennen kuin ilmoittaudut koulutukseen.\n \nIlmoittaudu\n 
LOCATION:webinaari
URL:http://tapahtumat.loimu.fi/event/QVPzK
END:VEVENT
END:VCALENDAR
