BEGIN:VCALENDAR
METHOD:PUBLISH
VERSION:2.0
PRODID:-//Eventilla iCal Syndication//NONSGML Liana//EN
BEGIN:VEVENT
UID:QVdpo@eventilla.com
DTSTAMP:20260507T060000Z
DTSTART:20260507T060000Z
DTEND:20260508T130000Z
SUMMARY:SQL-kielen jatkokurssi
DESCRIPTION:Eduhousen koulutuksiin osallistujilta laskutetaan ensimmäisen ilmoittautumisen jälkeen yksi 50 €:n koulutuslisenssi Loimun toimesta\, jolla saa osallistua niin moneen Eduhousen koulutukseen kuin haluaa vuoden 2026 aikana. \nKuvaus\nSQL-kieli on standardoitu komentokieli\, jonka avulla ohjataan yrityksissä laajalti käytettyjen relaatiotietokantojen toimintoja. Koulutuksessa tutustutaan SQL-kielen yksityiskohtiin tietokannan rakenteen ylläpidossa\, käyttöoikeuksien hallinnassa ja suorituskyvyn optimoinnissa. Koulutukseen sisältyy SQL-kielen harjoituksia\, joissa käytetään Microsoft SQL Server -ympäristöä. \nTavoite\nOpi SQL-kielen rakenteet ja kuinka käyttää kieltä tehokkaasti. \nKenelle\nKoulutus sopii käyttäjille\, jotka tuntevat SQL-kielen perusteet ja haluavat perehtyä tarkemmin kielen rakenteeseen ja tehokkaaseen käyttöön sekä tietokantarakenteiden luomiseen. Kurssilla käsitellään myös ohjelmarakenteita (trigger\, stored procedure ja function). \nOsallistujalla on suositeltavaa olla suoritettuna SQL-kielen peruskoulutus. \nHuomioitavaa\nLue ilmoittautumisen ohjeet ennen kuin ilmoittaudut koulutukseen. Huomioithan\, että kyseessä on paikkamääriltään rajattu koulutus. Koko päivän pituiseen tai useamman päivän kestävään koulutukseen pääsee vain rajallinen määrä osallistujia. Mikäli et pystykään osallistumaan\, peruthan osallistumisesi ajoissa Eduhousen puolella ja vapauta paikkasi jonossa oleville. Eduhousella on oikeus laskuttaa peruuttamatta jääneet paikkamäärärajatut koulutukset ilmoittautujalta. Loimu ei korvaa näitä kustannuksia jäsenelleen.\n \nIlmoittaudu\n 
LOCATION:webinaari
URL:http://tapahtumat.loimu.fi/event/QVdpo
END:VEVENT
END:VCALENDAR
