BEGIN:VCALENDAR
METHOD:PUBLISH
VERSION:2.0
PRODID:-//Eventilla iCal Syndication//NONSGML Liana//EN
BEGIN:VEVENT
UID:VEzbd@eventilla.com
DTSTAMP:20260424T060000Z
DTSTART:20260424T060000Z
DTEND:20260424T080000Z
SUMMARY:Tekoäly markkinoinnin sisällöntuotannossa
DESCRIPTION:Eduhousen koulutuksiin osallistujilta laskutetaan ensimmäisen ilmoittautumisen jälkeen yksi 50 €:n koulutuslisenssi Loimun toimesta\, jolla saa osallistua niin moneen Eduhousen koulutukseen kuin haluaa vuoden 2026 aikana. \nKuvaus\nTekoäly on tullut jäädäkseen ja sen merkitys työelämässä syvenee jatkuvasti. Työsi markkinoinnin parissa voi kehittyä tuottavammaksi ja luovemmaksi\, kun hallitset tekoälyn käytön ja osaat soveltaa sitä tehtävissäsi tehokkaasti!\nTavoite\nTässä koulutuksessa opit valjastamaan tekoälystä työskentelyäsi tehostavan työkaverin markkinoinnin eri tehtäviin – aina suunnittelusta toteutukseen! Lähde mukaan\, ja tutustut ChatGPT:n ratkaisukeskeiseen ja tulokselliseen käyttöön teorian avulla ja yhdessä tekemällä.\nKenelle\nKoulutus sopii markkinoinnin ammattilaisille tehtävästä riippumatta! Olit sitten copywriter\, sisällöntuottaja\, markkinoinnin suunnittelija tai tapahtumamarkkinoija\, tämä koulutus tarjoaa sinulle loistavia vinkkejä yhteistyöhön tekoälyn kanssa.\nKoulutus kulki aiemmin nimellä ChatGPT – sisällöntuotantoa markkinointitarkoituksiin. \nOhjelmaversio\nKoulutus ei edellytä mitään tiettyä ohjelmistoa.\nLue ilmoittautumisen ohjeet ennen kuin ilmoittaudut koulutukseen.\n \nIlmoittaudu\n 
LOCATION:webinaari
URL:http://tapahtumat.loimu.fi/event/VEzbd
END:VEVENT
END:VCALENDAR
