BEGIN:VCALENDAR
METHOD:PUBLISH
VERSION:2.0
PRODID:-//Eventilla iCal Syndication//NONSGML Liana//EN
BEGIN:VEVENT
UID:WXpkB@eventilla.com
DTSTAMP:20261125T070000Z
DTSTART:20261125T070000Z
DTEND:20261125T090000Z
SUMMARY:Teams – tehokäyttö ja supervoimat
DESCRIPTION:Eduhousen koulutuksiin osallistujilta laskutetaan ensimmäisen ilmoittautumisen jälkeen yksi 50 €:n koulutuslisenssi Loimun toimesta\, jolla saa osallistua niin moneen Eduhousen koulutukseen kuin haluaa vuoden 2026 aikana. \nKuvaus\nTässä koulutuksessa opit miten Teamsista saadaan enemmän irti kuin pelkkä viestikanava. Koulutuksessa keskitytään tehokkaampaan työntekoon\, sujuvampaan yhteistyöhön ja ominaisuuksiin\, jotka auttavat hallitsemaan viestejä\, tehtäviä ja yhteistä tekemistä fiksummin. Sisältö sopii käyttäjille\, jotka tuntevat jo Teamsin perusteet ja haluavat siirtyä seuraavalle tasolle.\nTavoite\nKoulutuksen jälkeen osaat hyödyntää Teamsia aktiivisemmin työn organisoinnissa\, viestinnän hallinnassa ja yhteisessä tekemisessä. Tunnistat tehokäytön parhaat käytännöt\, osaat hyödyntää moderneja yhteistyötoimintoja ja rakentaa omaan työhösi sujuvampia Teams-rutiineja.\nKenelle\nKoulutus sopii Teamsin käyttäjille\, jotka haluavat vähemmän sähläystä ja enemmän oikeaa yhteistyötä. Osallistujalla on hyvä olla Teamsin peruskäyttö hallussa.\nOhjelmaversio\nKoulutuksessa käytetään Teamsin työpöytäsovelluksen uusinta versiota (Windows tai Mac). Koulutus soveltuu myös Teamsin selainversion käyttäjille.\nLue ilmoittautumisen ohjeet ennen kuin ilmoittaudut koulutukseen.\nIlmoittaudu\n 
LOCATION:webinaari
URL:http://tapahtumat.loimu.fi/event/WXpkB
END:VEVENT
END:VCALENDAR
