BEGIN:VCALENDAR
METHOD:PUBLISH
VERSION:2.0
PRODID:-//Eventilla iCal Syndication//NONSGML Liana//EN
BEGIN:VEVENT
UID:Xpd8D@eventilla.com
DTSTAMP:20260506T100000Z
DTSTART:20260506T100000Z
DTEND:20260506T120000Z
SUMMARY:PowerPoint 1 - mastering the basics
DESCRIPTION:Participants in Eduhouse training sessions will be invoiced a single €50 training license fee by Loimu after their first registration. This license allows unlimited participation in Eduhouse training sessions throughout 2026. Members exempt from the license fee are those classified in membership fee discount categories 1–3 due to low income at the time of invoicing\, as well as recent graduates.\nDescription\nLearn the basics of PowerPoint and create visually consistent presentations with ease. In this training\, you will learn to use PowerPoint’s views and themes. After the training\, you will know how to create a presentation using your organization’s template.\nGoal\nThe goal is to learn the basic functions for building a presentation: creating\, adding\, and editing slides\, as well as adding text and images. You will also learn how to save your presentation and export it as a PDF. After completing this training\, you will have mastered the basics\, and you can move on to complete PowerPoint trainings 2–4 in any order.\nTarget audience\nThis training is intended for anyone who has not used PowerPoint before or wants a refresher on the basics. No prior experience with PowerPoint is required.\nSoftware version\nThe training is carried out using the latest Microsoft 365 version of PowerPoint. For the most part\, the skills learned are applicable to other commonly used versions of PowerPoint.\nRead the registration instructions before signing up for the training. \n \nRegister
LOCATION:webinar
URL:http://tapahtumat.loimu.fi/event/Xpd8D
END:VEVENT
END:VCALENDAR
