BEGIN:VCALENDAR
METHOD:PUBLISH
VERSION:2.0
PRODID:-//Eventilla iCal Syndication//NONSGML Liana//EN
BEGIN:VEVENT
UID:Xz56w@eventilla.com
DTSTAMP:20241106T110000Z
DTSTART:20241106T110000Z
DTEND:20241106T130000Z
SUMMARY:Tekoälykuvat Copilotissa ja ChatGPT:ssä (DALL-E)
DESCRIPTION:Eduhousen koulutuksiin osallistujilta laskutetaan ensimmäisen ilmoittautumisen jälkeen yksi 50 €:n koulutuslisenssi\, jolla saa osallistua niin moneen koulutukseen kuin haluaa.\nMolemmat ChatGPT ja Copilot osaavat luoda upeita kuvia käyttäen DALL-E tekoälyä. Hyvien kuvien luominen ei ole vaikeaa\, mutta vaatii hieman osaamista\, että voit luoda juuri oikeanlaisia kuvia käyttötarkoituksiisi.\nTavoite\nOppia luomaan visuaalisesti vaikuttavia kuvia tekoälyn avulla. Kurssi käsittelee DALL-E:n hyödyntämistä kuvien luomisessa\, taidetyylien jäljittelyssä ja realististen valokuvien tuottamisessa.Kurssin tavoitteena on opettaa osallistujat ymmärtämään DALL-E:n toimintaperiaatteet ja käyttömahdollisuudet kuvien luomisessa. Osallistujat oppivat luomaan erilaisia kuvatyylejä\, jäljittelemään taidetyylejä ja tuottamaan realistisia valokuvia tekoälyn avulla.\nKenelle\nKurssi sopii kaikille\, jotka haluavat oppia luomaan tekoälyllä parempia ja yhdenmukaisia kuvia. Kurssi on suunnattu kaikille tekoälystä ja visuaalisesta ilmaisusta kiinnostuneille. Aiempi kokemus tekoälyteknologioiden kanssa ei ole välttämätöntä\, mutta perustaidot digitaalisessa kuvankäsittelyssä ovat hyödyksi.\nOhjelmaversio\nKoulutuksessa käytetään DALL-E:n viimeisintä Copilotin ja ChatGPT:n kautta saatavilla olevaa versiota.\n \nLue ilmoittautumisen ohjeet ennen kuin ilmoittaudut koulutukseen.\n \nIlmoittaudu\n 
LOCATION:webinaari
URL:http://tapahtumat.loimu.fi/event/Xz56w
END:VEVENT
END:VCALENDAR
