BEGIN:VCALENDAR
METHOD:PUBLISH
VERSION:2.0
PRODID:-//Eventilla iCal Syndication//NONSGML Liana//EN
BEGIN:VEVENT
UID:ZPX9Q@eventilla.com
DTSTAMP:20241009T100000Z
DTSTART:20241009T100000Z
DTEND:20241009T120000Z
SUMMARY:Videoiden ja äänitiedostojen tekstittäminen tekoälyllä
DESCRIPTION:Eduhousen koulutuksiin osallistujilta laskutetaan ensimmäisen ilmoittautumisen jälkeen yksi 50 €:n koulutuslisenssi\, jolla saa osallistua niin moneen koulutukseen kuin haluaa.\nSaavutettavuusvaatimukset vaativat monia meistä tekstittämään videomme\, tai ehkäpä haluat vain kasvattaa videoittesi yleisöä lisäämällä niihin tekstitykset. Oli syy mikä tahansa\, tekstitys käsin on erittäin hidasta ja vaivalloista. Tässä koulutuksessa tutustumme automaattisempiin keinoihin tekstittää videoita.\nTavoite\nTämä kurssi kattaa kaiken tekstityksen perusteista ja saavutettavuudesta\, tekoälypohjaisiin työkaluihin ja tekstitystiedostojen luomiseen. Kurssin tavoite on oppia ymmärtämään tekstityksen merkitys ja perusteet sekä sen rooli saavutettavuudessa\, sekä oppia luomaan tekstitystiedostoja käyttäen nettipalveluita tai omalla tietokoneella pyörivää tekstityssovellusta. Lisäksi tutustumme siihen\, miten voit lisätä tekstityksen videoihin eri tavoin\nKenelle\nKurssi on suunnattu kaikille videosisältöä tekeville\, esimerkiksi video- ja podcast-tuottajille\, opettajille\, markkinoijille ja kaikille muillekin\, jotka haluavat tehdä sisällöstään saavutettavampaa ja ymmärrettävämpää laajemmalle yleisölle\, ja tutustua siihen\, miten tekoäly voi auttaa tämän kanssa.\nOhjelmaversio\nKurssilla esitellään OpenAI Whisperin käyttö tekstityksessä käyttäen www-palveluita tai Pinokio-sovellusta\, sekä Handbrake ja Capcut tekstityksen lisäämiseen videoihin. Osallistujilta ei edellytetä aiempaa kokemusta näistä ohjelmista.\n \nLue ilmoittautumisen ohjeet ennen kuin ilmoittaudut koulutukseen.\n \nIlmoittaudu\n 
LOCATION:webinaari
URL:http://tapahtumat.loimu.fi/event/ZPX9Q
END:VEVENT
END:VCALENDAR
