BEGIN:VCALENDAR
METHOD:PUBLISH
VERSION:2.0
PRODID:-//Eventilla iCal Syndication//NONSGML Liana//EN
BEGIN:VEVENT
UID:aoXyD@eventilla.com
DTSTAMP:20260520T100000Z
DTSTART:20260520T100000Z
DTEND:20260520T120000Z
SUMMARY:PowerPoint 3 - making information visible
DESCRIPTION:Participants in Eduhouse training sessions will be invoiced a single €50 training license fee by Loimu after their first registration. This license allows unlimited participation in Eduhouse training sessions throughout 2026. Members exempt from the license fee are those classified in membership fee discount categories 1–3 due to low income at the time of invoicing\, as well as recent graduates.\nDescription\nLearn how to use SmartArt graphics as well as charts to build clear and visually appealing presentations. This training provides practical ways to visualize information effectively using PowerPoint.\nGoal\nThe goal is to learn to use PowerPoint’s infographics tools to present both text-based and numerical information clearly and effectively. After the training\, you will know how to use SmartArt graphics and different kinds of charts in PowerPoint.\nTarget audience\nThis course is intended for users who already know the basics of PowerPoint and want to develop their skills in visualizing information. If you wish to review the basics first\, you can do so in the training PowerPoint 1 – mastering the basics.\nSoftware version\nThe training is carried out using the latest Microsoft 365 version of PowerPoint. For the most part\, the skills learned are applicable to other commonly used versions of PowerPoint.\n \nRead the registration instructions before signing up for the training. \n \nRegister
LOCATION:webinar
URL:http://tapahtumat.loimu.fi/event/aoXyD
END:VEVENT
END:VCALENDAR
