BEGIN:VCALENDAR
METHOD:PUBLISH
VERSION:2.0
PRODID:-//Eventilla iCal Syndication//NONSGML Liana//EN
BEGIN:VEVENT
UID:aoZ9D@eventilla.com
DTSTAMP:20260605T053000Z
DTSTART:20260605T053000Z
DTEND:20260605T063000Z
SUMMARY:Uuden esihenkilön lakitieto: Työyhteisön haastavat tilanteet
DESCRIPTION:Uuden esihenkilön lakitieto -koulutussarjassamme käsittelemme juridiikkaa käytännönläheisesti esihenkilön roolista käsin työsuhteen eri vaiheissa.\nTässä sarjan osassa 4 käsittelemme mm. seuraavia teemoja\n\nHäirintä ja epäasiallinen kohtelu\nPäihteet\, mielenterveysongelmat\nVaroituksen antaminen\nTyösuhteen päättäminen\n\nPaikka\nTeams\, kesto 45 min + 15 min kysymyksille.\nNappaa aamukahvi mukaan ja hyppää webinaarilinjoille!\nKouluttajat\nWebinaarin kouluttajana toimii Loimun työsuhdejuristi\, OTK Anna Kytömaa.\nKoulutuksesta tehdään tallenne Loimun tallennekirjastoon.
LOCATION:webinaari
URL:http://tapahtumat.loimu.fi/event/aoZ9D
END:VEVENT
END:VCALENDAR
