BEGIN:VCALENDAR
METHOD:PUBLISH
VERSION:2.0
PRODID:-//Eventilla iCal Syndication//NONSGML Liana//EN
BEGIN:VEVENT
UID:aqYD4@eventilla.com
DTSTAMP:20241003T060000Z
DTSTART:20241003T060000Z
DTEND:20241003T090000Z
SUMMARY:Excel tehokäyttö – suurten aineistojen käsittely Pivot-taulukoilla
DESCRIPTION:Eduhousen koulutuksiin osallistujilta laskutetaan ensimmäisen ilmoittautumisen jälkeen yksi 50 €:n koulutuslisenssi\, jolla saa osallistua niin moneen koulutukseen kuin haluaa.\nTiivistelmä\nNyt voit oppia käsittelemään suuriakin datamääriä Pivot-taulukkoon sopivaksi ja rakentamaan Pivot-raportteja.\nTavoite\nKoulutuksen jälkeen osaat käyttää Excelin edistyneitä työkaluja suurten tietoainesten käsittelyyn. Opit\, kuinka käsittelet raakadatan Pivot-taulukkoon sopivaksi ja rakennat Pivot-raportteja eri lähteistä erilaisten työkalujen avulla.\nKenelle\nKoulutus sopii käyttäjille\, jotka jo osaavat Excelin jatkotason käytön ja ovat jo jonkin verran käyttäneet Pivot-taulukkoraportteja.\nOhjelmaversio\nTämä koulutus soveltuu Excelin 2010\, 2013\, 2016\, 2019\, 2021 ja 365 Windows -versioille sekä soveltuvin osin Macin Excel 2016 -versiolle.\nLue ilmoittautumisen ohjeet ennen kuin ilmoittaudut koulutukseen.\nIlmoittaudu\n 
LOCATION:webinaari
URL:http://tapahtumat.loimu.fi/event/aqYD4
END:VEVENT
END:VCALENDAR
