BEGIN:VCALENDAR
METHOD:PUBLISH
VERSION:2.0
PRODID:-//Eventilla iCal Syndication//NONSGML Liana//EN
BEGIN:VEVENT
UID:bMop4@eventilla.com
DTSTAMP:20261124T070000Z
DTSTART:20261124T070000Z
DTEND:20261124T100000Z
SUMMARY:Teams – perusteet ja kokoukset
DESCRIPTION:Eduhousen koulutuksiin osallistujilta laskutetaan ensimmäisen ilmoittautumisen jälkeen yksi 50 €:n koulutuslisenssi Loimun toimesta\, jolla saa osallistua niin moneen Eduhousen koulutukseen kuin haluaa vuoden 2026 aikana. \nKuvaus\nTässä koulutuksessa otat Teamsin haltuun käytännönläheisesti ja ilman turhaa teknistä kikkailua. Koulutus sopii arjen työn tueksi kaikille\, jotka haluavat viestiä selkeämmin\, tehdä yhteistyötä sujuvammin ja osallistua kokouksiin varmemmin. Koulutuksen aikana käydään läpi Teamsin tärkeimmät perustoiminnot sekä ne kokousominaisuudet\, joita nykyaikaisessa etä- ja hybridityössä oikeasti tarvitaan.\nTavoite\nKoulutuksen jälkeen osaat käyttää Teamsia päivittäisen työn perustyökaluna. Hallitset keskustelut\, tiimit ja kanavat\, osaat jakaa tiedostoja ja hyödyntää yhteismuokkausta sekä osallistua kokouksiin sujuvasti. Lisäksi opit järjestämään itse selkeän ja toimivan Teams-etäkokouksen.\nKenelle\nKoulutus sopii Teamsin uusille käyttäjille sekä niille\, jotka haluavat varmistaa\, että omat perustaidot ovat ajan tasalla.\nOhjelmaversio\nKoulutuksessa käytetään Teamsin työpöytäsovelluksen uusinta versiota (Windows tai Mac). Koulutus soveltuu myös Teamsin selainversion käyttäjille.\nLue ilmoittautumisen ohjeet ennen kuin ilmoittaudut koulutukseen.\nIlmoittaudu\n 
LOCATION:webinaari
URL:http://tapahtumat.loimu.fi/event/bMop4
END:VEVENT
END:VCALENDAR
