BEGIN:VCALENDAR
METHOD:PUBLISH
VERSION:2.0
PRODID:-//Eventilla iCal Syndication//NONSGML Liana//EN
BEGIN:VEVENT
UID:bowwP@eventilla.com
DTSTAMP:20260427T053000Z
DTSTART:20260427T053000Z
DTEND:20260506T093000Z
SUMMARY:Työhyvinvointikortti®-koulutus - Opi vahvistamaan työyhteisön hyvinvointia
DESCRIPTION:Työhyvinvointikortti®-koulutus tarjoaa käytännön työkaluja sekä selkeät periaatteet työhyvinvoinnin järjestelmälliseen kehittämiseen.\nMiksi osallistua?\nHyvinvointi on organisaation todellinen menestystekijä. Se parantaa tuloksellisuutta\, pidentää työuria ja vahvistaa sitoutumista.\nKun henkilöstö voi hyvin\, työ sujuu\, yhteistyö vahvistuu ja organisaatio kehittyy luonnollisesti eteenpäin.Koulutus antaa selkeän yhteisen käsityksen työhyvinvoinnista\, jäsentää rooleja ja vastuita sekä tuo konkreettisia välineitä arjen kehittämiseen.\nKenelle\nKoulutus on suunnattu esihenkilöille ja työhyvinvoinnin vastuutehtävissä toimiville. Koulutuksessa etsitään vastauksia mm. seuraaviin kysymyksiin:\n\nMistä työhyvinvointi muodostuu?\nMitä voimavaroja ja kehittämistarpeita työpaikallani on?\nMiten johtamisella ja työyhteisön keinoilla vahvistetaan työhyvinvointia?\nMiten hallita kuormitusta ja tukea työkykyä?\n\nToteutus\nKoulutus toteutetaan verkossa ja sisältää ennakkotehtävän\, kaksi etäkoulutusaamupäivää sekä koulutuksen toisena päivänä suoritettavan verkkokertauksen.\nEnnakkotehtävä auttaa tunnistamaan työpaikan omat vahvuudet ja kehittämiskohteet\, jolloin koulutus linkittyy suoraan oman työpaikan työhyvinvoinnin kehittämiseen.\nKoulutuskokonaisuus sisältää kaksi aamupäivää 27.4. ja 6.5. klo 8.30-12.30.\nHyväksytty suoritus oikeuttaa Työhyvinvointikorttiin® sekä mahdollistaa maksuttoman osaamismerkin (Open Badge) hakemisen.\nTärkeää ennen ilmoittautumista\n\nKoulutukset täyttyvät nopeasti; mukaan mahtuu 25 ensimmäistä.\nIlmoittautuminen on sitova. Jos joudut perumaan\, ilmoitathan mahdollisimman ajoissa\, jotta paikka voidaan vapauttaa varasijalle.\nTyöhyvinvointikortin® saaminen edellyttää ennakkotehtävän tekemisen\, osallistumisen molempiin koulutuspäiviin sekä verkkokertauksen tekemisen.\nVerkkokertaus toteutetaan toisen koulutuskerran lopussa. Muita kertausmahdollisuuksia ei valitettavasti ole.\n\nKoulutus on osa Loimun hyvinvoinnin teemavuotta 2026\, jonka tavoitteena on tukea loimulaisten hyvinvointia työelämässä\, työnhaussa ja opinnoissa.  Lue lisää Hyvinvoinnin vuosi 2026 -sivulta.
LOCATION:webinaari
URL:http://tapahtumat.loimu.fi/event/bowwP
END:VEVENT
END:VCALENDAR
