BEGIN:VCALENDAR
METHOD:PUBLISH
VERSION:2.0
PRODID:-//Eventilla iCal Syndication//NONSGML Liana//EN
BEGIN:VEVENT
UID:d46Wa@eventilla.com
DTSTAMP:20260603T150000Z
DTSTART:20260603T150000Z
DTEND:20260603T160000Z
SUMMARY:Sano EI ilman syyllisyyttä – rajat\, jotka vapauttavat energiaasi
DESCRIPTION:Miksi on niin vaikea sanoa EI? Ja miksi syyllistyt siitä? Opit sanomaan EI lempeästi mutta lujasti – ja vapautumaan syyllisyydestä. Rajat eivät tee sinusta ilkeää\, ne tekevät sinusta viisaan.\nWebinaarin puhuja: Antonia Gergen\nAntonia Gergen on neurotieteen tutkija\, valmentaja ja tekoälyn asiantuntija\, joka tekee mielen toiminnasta ymmärrettävää ja käytännönläheistä. Hän on erikoistunut aivojen plastisuuteen\, oppimisen hermostollisiin mekanismeihin ja mielen säätelyn taitoihin\, joita hän yhdistää psykologisiin työtapoihin keskittymisen\, palautumisen ja jaksamisen tueksi.\nKoulutus on osa Loimun hyvinvoinnin teemavuotta 2026\, jonka tavoitteena on tukea loimulaisten hyvinvointia työelämässä\, työnhaussa ja opinnoissa.  Lue lisää Hyvinvoinnin vuosi 2026 -sivulta.\nIlmoittaudu
LOCATION:webinaari
URL:http://tapahtumat.loimu.fi/event/d46Wa
END:VEVENT
END:VCALENDAR
