BEGIN:VCALENDAR
METHOD:PUBLISH
VERSION:2.0
PRODID:-//Eventilla iCal Syndication//NONSGML Liana//EN
BEGIN:VEVENT
UID:dM7KP@eventilla.com
DTSTAMP:20260521T110000Z
DTSTART:20260521T110000Z
DTEND:20260521T120000Z
SUMMARY:Webinaari: Munasarjojen monirakkulaoireyhtymä (PCOS) käytännössä – diagnostiikka\, lääkehoito ja elintavat
DESCRIPTION:Ravitsemusterapeuttien yhdistys (Loimun jäsenyhdistys) järjestää:\nMunasarjojen monirakkulaoireyhtymä (PCOS) käytännössä – diagnostiikka\, lääkehoito ja elintavat -webinaari\naika: 21.5.2026 klo 14-15\nMunasarjojen monirakkulaoireyhtymä (PCOS) on yleinen ja monimuotoinen oireyhtymä\, joka tulee vastaan monen ravitsemus- ja terveydenhuollon ammattilaisen työssä. Tämä tiivis tunnin webinaari tarjoaa ajankohtaisen ja käytännönläheisen katsauksen oireyhtymän tunnistamiseen\, hoitoon ja elintapaohjaukseen. Koulutus tarjoaa hyödyllistä tietoa erityisesti ravitsemusterapeuteille\, ravitsemusasiantuntijoille ja muille terveydenhuollon ammattilaisille.\nKouluttaja\nNaistentautien ja synnytysten erikoislääkäri\, gynekologi Satu Wedenoja\nWebinaarin sisältö\nKoulutuksessa käydään kokonaisvaltaisesti läpi PCOS:n tunnistamista\, diagnostiikkaa\, hoitoa ja elintapaohjausta. Luento perustuu kansainväliseen PCOS:n hoitosuositukseen (European Society of Human Reproduction and Embryology\, ESHRE).\nTavoitteet\nWebinaarin tavoitteena on antaa osallistujille:\n\nselkeä ja ajantasainen ymmärrys PCOS:n diagnostiikasta ja siihen liittyvistä haasteista\najantasainen tieto lääkehoidosta ja elintapainterventioista\, kuten ravitsemuksesta\, liikunnasta\, painonhallinnasta ja unesta\nymmärrystä hoitolinjauksista erilaisissa elämäntilanteissa\, kuten lapsitoiveen\, painonhallinnan ja hormonaalisten oireiden yhteydessä\nkeinoja tukea potilasta elintapamuutoksissa ja kokonaisvaltaisessa hyvinvoinnissa\nvarmuutta potilasohjaukseen.\n\nKenelle koulutus sopii\nKoulutus on suunnattu ravitsemusterapeuteille\, ravitsemusasiantuntijoille\, muille elintapaohjauksen ammattilaisille sekä muulle terveydenhuollon henkilöstölle. Se sopii kaikille\, jotka haluavat vahvistaa osaamistaan PCOS:n tunnistamisessa\, hoidossa ja potilasohjauksessa.\nHinnoittelu (sis. alv. 25\,5 %)\n\nRTY:n jäsenet: 39 €\nRTY:n opiskelija- ja seniorijäsenet: 20 €\nMuut kuin RTY:n jäsenet: 49 €\n\nHUOM! Myönnämme webinaarin normaalihinnasta 49 euroa (sis. alv) Loimun jäsenille 10 % alennusta. Alennusta ei voi yhdistää muihin etuhintoihin.Ilmoittautumislomake Ravitsemusterapeuttien yhdistyksen sivuilla
LOCATION:webinaari
URL:http://tapahtumat.loimu.fi/event/dM7KP
END:VEVENT
END:VCALENDAR
