BEGIN:VCALENDAR
METHOD:PUBLISH
VERSION:2.0
PRODID:-//Eventilla iCal Syndication//NONSGML Liana//EN
BEGIN:VEVENT
UID:e4dy6@eventilla.com
DTSTAMP:20261023T060000Z
DTSTART:20261023T060000Z
DTEND:20261023T090000Z
SUMMARY:Seuraajasta tilaajaksi – omista yleisösi yli somen
DESCRIPTION:Eduhousen koulutuksiin osallistujilta laskutetaan ensimmäisen ilmoittautumisen jälkeen yksi 50 €:n koulutuslisenssi Loimun toimesta\, jolla saa osallistua niin moneen Eduhousen koulutukseen kuin haluaa vuoden 2026 aikana. \nKuvaus\nSosiaalinen media muuttuu. Rakenna uskollinen tilaajayleisö algoritmien ulkopuolelle ja vahvista yleisösuhdetta suoraviestinnän avulla. Luo pysyvyyttä\, sitoutumista ja parempaa näkyvyyttä yrityksellesi.\nTavoite\nKurssilla opit keinoja\, joiden avulla voit rakentaa yrityksellesi omat tilaajakanavat ja ohjata yleisön somesta suoraviestintään. Kuulet konkreettisista työkaluista uudenlaisiin kanavavalintoihin\, saat tukea sisältöpolkujen suunnitteluun ja sitoutuneen\, pysyvän yleisön kasvattamiseen algoritmeista riippumatta.\nKenelle\nKurssi on tarkoitettu markkinoinnin ja viestinnän parissa työskenteleville\, jotka haluaisivat löytää uusia tapoja tavoittaa oma yleisö.\nOhjelmaversio\nKoulutus ei edellytä mitään tiettyä ohjelmistoa.\nLue ilmoittautumisen ohjeet ennen kuin ilmoittaudut koulutukseen.\nIlmoittaudu\n 
LOCATION:webinaari
URL:http://tapahtumat.loimu.fi/event/e4dy6
END:VEVENT
END:VCALENDAR
