BEGIN:VCALENDAR
METHOD:PUBLISH
VERSION:2.0
PRODID:-//Eventilla iCal Syndication//NONSGML Liana//EN
BEGIN:VEVENT
UID:g99OO@eventilla.com
DTSTAMP:20260610T110000Z
DTSTART:20260610T110000Z
DTEND:20260610T130000Z
SUMMARY:Yrittäjien kesäkohtaaminen Loimulla
DESCRIPTION:Tervetuloa loimulaisten yrittäjien kesäkohtaamiseen! Tule juttelemaan yrittäjän arjesta\, jakamaan ajatuksia ja ideoita tai vain vaihtamaan kuulumisia hyvässä ja rennossa seurassa. Paikalla on muita loimulaisia yrittäjiä sekä Loimun yrittäjätoimikunnan jäseniä.Tarjolla on kuohuvaa ja pientä suolaista purtavaa kesän hengessä.Tilaisuus toimii samalla etkoina AKYn Ilo irti yrittäjyydestä -tapahtumaan. Huomaathan ilmoittautua erikseeen  Ilo irti yrittäjyydestä tilaisuuteen tästä. Olet lämpimästi tervetullut mukaan kesäkohtaamiseen myös\, vaikka et olisi menossa AKYn tilaisuuteen.\nVoit piipahtaa hetkeksi tai viihtyä pidempään\, juuri omien aikataulujesi mukaan.\n \n 
LOCATION:Helsinki\, Mikonkatu 8 A, 8. krs (Aikatalo)\, 00100\, Helsinki
URL:http://tapahtumat.loimu.fi/event/g99OO
END:VEVENT
END:VCALENDAR
