BEGIN:VCALENDAR
METHOD:PUBLISH
VERSION:2.0
PRODID:-//Eventilla iCal Syndication//NONSGML Liana//EN
BEGIN:VEVENT
UID:geLAO@eventilla.com
DTSTAMP:20240524T083000Z
DTSTART:20240524T083000Z
DTEND:20240524T180000Z
SUMMARY:Loimu valtuuston kokous
DESCRIPTION:Aikataulu\nklo 11.30 Lounas\nklo 12.30 Seminaariosuus\, kokoustila Meet 2\nklo 15.00 Kahvitauko\nklo 15.30 Valtuuston kokous\, kokoustila Meet 2\nklo 19.00 Illallinen hotellin lasiterassilla\n \n 
LOCATION:Scandic Helsinki Hub\, Annankatu 18\, 00120\, Helsinki\, Suomi
URL:http://tapahtumat.loimu.fi/event/geLAO
END:VEVENT
END:VCALENDAR
